BEGIN:VCALENDAR
VERSION:2.0
PRODID:-//World Affairs Council of Cincinnati and Northern Kentucky - ECPv6.15.20//NONSGML v1.0//EN
CALSCALE:GREGORIAN
METHOD:PUBLISH
X-WR-CALNAME:World Affairs Council of Cincinnati and Northern Kentucky
X-ORIGINAL-URL:https://globalcincinnati.org
X-WR-CALDESC:Events for World Affairs Council of Cincinnati and Northern Kentucky
REFRESH-INTERVAL;VALUE=DURATION:PT1H
X-Robots-Tag:noindex
X-PUBLISHED-TTL:PT1H
BEGIN:VTIMEZONE
TZID:America/New_York
BEGIN:DAYLIGHT
TZOFFSETFROM:-0500
TZOFFSETTO:-0400
TZNAME:EDT
DTSTART:20190310T070000
END:DAYLIGHT
BEGIN:STANDARD
TZOFFSETFROM:-0400
TZOFFSETTO:-0500
TZNAME:EST
DTSTART:20191103T060000
END:STANDARD
BEGIN:DAYLIGHT
TZOFFSETFROM:-0500
TZOFFSETTO:-0400
TZNAME:EDT
DTSTART:20200308T070000
END:DAYLIGHT
BEGIN:STANDARD
TZOFFSETFROM:-0400
TZOFFSETTO:-0500
TZNAME:EST
DTSTART:20201101T060000
END:STANDARD
BEGIN:DAYLIGHT
TZOFFSETFROM:-0500
TZOFFSETTO:-0400
TZNAME:EDT
DTSTART:20210314T070000
END:DAYLIGHT
BEGIN:STANDARD
TZOFFSETFROM:-0400
TZOFFSETTO:-0500
TZNAME:EST
DTSTART:20211107T060000
END:STANDARD
END:VTIMEZONE
BEGIN:VEVENT
DTSTART;TZID=America/New_York:20200304T130000
DTEND;TZID=America/New_York:20200304T163000
DTSTAMP:20260424T194627
CREATED:20200218T202629Z
LAST-MODIFIED:20200218T202629Z
UID:21832-1583326800-1583339400@globalcincinnati.org
SUMMARY:Japan America Society of Greater Cincinnati - Ethics & Compliance in the Global Economy
DESCRIPTION:For registration\, please click this link- https://jasgc.org/event-3664782     A special registration category called “Xavier Guest Ticket\,” has been created so that you can buy a discounted ticket for $25\,  the same price as members.  Please use the code “Xavier”  for those discounted tickets. \n— \nIn addition to the two primary speakers\, there will be a panel featuring representatives of 4 Japanese companies. Joe Dehner\, Board President\, will moderate. Confirmed speakers are from Mitsubishi Electric and Honda of America. 
URL:https://globalcincinnati.org/event/japan-america-society-of-greater-cincinnati-ethics-compliance-in-the-global-economy/
LOCATION:Xavier University Cintas Center\, 1324 Herald Ave\, Cincinnati\, OH\, 45207
END:VEVENT
END:VCALENDAR