BEGIN:VCALENDAR
VERSION:2.0
PRODID:-//World Affairs Council of Cincinnati and Northern Kentucky - ECPv6.15.20//NONSGML v1.0//EN
CALSCALE:GREGORIAN
METHOD:PUBLISH
X-ORIGINAL-URL:https://globalcincinnati.org
X-WR-CALDESC:Events for World Affairs Council of Cincinnati and Northern Kentucky
REFRESH-INTERVAL;VALUE=DURATION:PT1H
X-Robots-Tag:noindex
X-PUBLISHED-TTL:PT1H
BEGIN:VTIMEZONE
TZID:America/New_York
BEGIN:DAYLIGHT
TZOFFSETFROM:-0500
TZOFFSETTO:-0400
TZNAME:EDT
DTSTART:20190310T070000
END:DAYLIGHT
BEGIN:STANDARD
TZOFFSETFROM:-0400
TZOFFSETTO:-0500
TZNAME:EST
DTSTART:20191103T060000
END:STANDARD
BEGIN:DAYLIGHT
TZOFFSETFROM:-0500
TZOFFSETTO:-0400
TZNAME:EDT
DTSTART:20200308T070000
END:DAYLIGHT
BEGIN:STANDARD
TZOFFSETFROM:-0400
TZOFFSETTO:-0500
TZNAME:EST
DTSTART:20201101T060000
END:STANDARD
BEGIN:DAYLIGHT
TZOFFSETFROM:-0500
TZOFFSETTO:-0400
TZNAME:EDT
DTSTART:20210314T070000
END:DAYLIGHT
BEGIN:STANDARD
TZOFFSETFROM:-0400
TZOFFSETTO:-0500
TZNAME:EST
DTSTART:20211107T060000
END:STANDARD
END:VTIMEZONE
BEGIN:VEVENT
DTSTART;TZID=America/New_York:20200306T000000
DTEND;TZID=America/New_York:20200315T000000
DTSTAMP:20260424T195108
CREATED:20200225T195150Z
LAST-MODIFIED:20200225T195150Z
UID:21843-1583452800-1584230400@globalcincinnati.org
SUMMARY:Oscar Shorts\, Live Action & Animation Presented by Cincinnati World Cinema
DESCRIPTION:Essential Info:\nThere is plenty to love in the coming short film programs — memories of childhood\, dramatic thrillers\, parenting\, comedy\, shifting emotional landscapes\, friendship and love — great short stories from talented filmmakers.\nProgram A – Animation\, TRT 83 min (Oscar winner\, nominees and four bonus shorts).  Not Rated – suggest “G.”\nProgram B – Live-Action\, TRT 102 minutes (Oscar winner and nominees).  Not rated – suggest “PG-13.”\nTickets:  Individual programs – $11 advance\, $16 door. Both programs (same-day combos on weekends) $18 advance\, $23 door. Available online or by phone\, 859-957-FILM.\nFull Schedule: at the bottom of this email. \nContent\nThis year the theme binding both programs is about connection – between parents and kids\, sibs\, lovers\, friends and neighbors\, and overall the films are more upbeat than last year.\nWomen comprise 60% of the nominated filmmakers and there is ample creative\, thematic and ethnic diversity with a global reach that includes Belgium\, China\, the Czech Republic\, France\, Guatemala and the USA\, plus a polyglot entry from Tunisia-Canada-Qatar-Sweden! \nViewing Opportunities\nThe Oscar Shorts screen on eight days instead of just two\, providing flexibility for busy people\, with twelve total screenings divided equally by program. Two full weekends of same-day Combo packages make it easier for you to see both programs. Single program screenings on weekday evenings – two Program A (Animation) and two Program B (Live Action).  A limited number of single tix are also available on weekends
URL:https://globalcincinnati.org/event/oscar-shorts-live-action-animation-presented-by-cincinnati-world-cinema/
LOCATION:The Garfield Theatre\, 719 Race Street\, Cincinnati\, OH\, 45202\, United States
END:VEVENT
BEGIN:VEVENT
DTSTART;TZID=America/New_York:20200306T183000
DTEND;TZID=America/New_York:20200306T220000
DTSTAMP:20260424T195108
CREATED:20200121T191253Z
LAST-MODIFIED:20200121T191312Z
UID:21779-1583519400-1583532000@globalcincinnati.org
SUMMARY:One World Gala!
DESCRIPTION:Join us for the World Affairs Council’s seventh annual One World gala that promises an exciting evening of global connections with a twist – a global game of wit! \nThe evening includes a cocktail reception and dinner at The Hilton Cincinnati Netherland Plaza. Following dinner\, the international challenge begins! Teams will compete against each other in 4 globally themed rounds of questions. \n​It’s ‘Jeopardy!’ meets ‘Where in the World is Carmen Sandiego’ – with prizes from some of Cincinnati’s most popular restaurants and businesses. \nThis event shows the region’s commitment to preparing our students to be globally competent in the 21st century global environment. It is a celebration of global awareness and connections. The World Affairs Council is committed to engaging more youths and community members in global events and activities. \nGather your team of Global Know-It-Alls today and join the Facebook Event Page for sample questions and to stake out your competitors!
URL:https://globalcincinnati.org/event/one-world-gala-2/
LOCATION:Hilton Cincinnati Netherland Plaza\, 35 W 5th Street\, Cincinnati\, OH\, 45202\, United States
END:VEVENT
END:VCALENDAR