BEGIN:VCALENDAR
VERSION:2.0
PRODID:-//World Affairs Council of Cincinnati and Northern Kentucky - ECPv6.15.20//NONSGML v1.0//EN
CALSCALE:GREGORIAN
METHOD:PUBLISH
X-WR-CALNAME:World Affairs Council of Cincinnati and Northern Kentucky
X-ORIGINAL-URL:https://globalcincinnati.org
X-WR-CALDESC:Events for World Affairs Council of Cincinnati and Northern Kentucky
REFRESH-INTERVAL;VALUE=DURATION:PT1H
X-Robots-Tag:noindex
X-PUBLISHED-TTL:PT1H
BEGIN:VTIMEZONE
TZID:America/New_York
BEGIN:DAYLIGHT
TZOFFSETFROM:-0500
TZOFFSETTO:-0400
TZNAME:EDT
DTSTART:20190310T070000
END:DAYLIGHT
BEGIN:STANDARD
TZOFFSETFROM:-0400
TZOFFSETTO:-0500
TZNAME:EST
DTSTART:20191103T060000
END:STANDARD
BEGIN:DAYLIGHT
TZOFFSETFROM:-0500
TZOFFSETTO:-0400
TZNAME:EDT
DTSTART:20200308T070000
END:DAYLIGHT
BEGIN:STANDARD
TZOFFSETFROM:-0400
TZOFFSETTO:-0500
TZNAME:EST
DTSTART:20201101T060000
END:STANDARD
BEGIN:DAYLIGHT
TZOFFSETFROM:-0500
TZOFFSETTO:-0400
TZNAME:EDT
DTSTART:20210314T070000
END:DAYLIGHT
BEGIN:STANDARD
TZOFFSETFROM:-0400
TZOFFSETTO:-0500
TZNAME:EST
DTSTART:20211107T060000
END:STANDARD
END:VTIMEZONE
BEGIN:VEVENT
DTSTART;TZID=America/New_York:20200319T173000
DTEND;TZID=America/New_York:20200319T203000
DTSTAMP:20260424T194815
CREATED:20200218T192259Z
LAST-MODIFIED:20200218T192259Z
UID:21823-1584639000-1584649800@globalcincinnati.org
SUMMARY:Strategic Investments in Development & Diplomacy
DESCRIPTION:Join us March 19 for a special FPLC event with Jason Gross\, Executive Director\, U.S. Global Leadership Coalition\n \nPayment for the March 19 event can be made thru www.fplcohio.org \nIf you are unable to pay thru the site\, payment can be taken at the event.  Please RSVP to Cynthia Cummins at cummins@xavier.edu \nTHIS EVENT WILL BE HELD AT THE UNIVERSITY CLUB \n401 E. 4TH Street\, Cincinnati\, Ohio 45202
URL:https://globalcincinnati.org/event/strategic-investments-in-development-diplomacy/
LOCATION:The Univeristy Center\, 401 E. 4th St.\, Cincinnati\, OH\, 45202\, United States
END:VEVENT
END:VCALENDAR