BEGIN:VCALENDAR
VERSION:2.0
PRODID:-//World Affairs Council of Cincinnati and Northern Kentucky - ECPv6.15.20//NONSGML v1.0//EN
CALSCALE:GREGORIAN
METHOD:PUBLISH
X-WR-CALNAME:World Affairs Council of Cincinnati and Northern Kentucky
X-ORIGINAL-URL:https://globalcincinnati.org
X-WR-CALDESC:Events for World Affairs Council of Cincinnati and Northern Kentucky
REFRESH-INTERVAL;VALUE=DURATION:PT1H
X-Robots-Tag:noindex
X-PUBLISHED-TTL:PT1H
BEGIN:VTIMEZONE
TZID:America/New_York
BEGIN:DAYLIGHT
TZOFFSETFROM:-0500
TZOFFSETTO:-0400
TZNAME:EDT
DTSTART:20190310T070000
END:DAYLIGHT
BEGIN:STANDARD
TZOFFSETFROM:-0400
TZOFFSETTO:-0500
TZNAME:EST
DTSTART:20191103T060000
END:STANDARD
BEGIN:DAYLIGHT
TZOFFSETFROM:-0500
TZOFFSETTO:-0400
TZNAME:EDT
DTSTART:20200308T070000
END:DAYLIGHT
BEGIN:STANDARD
TZOFFSETFROM:-0400
TZOFFSETTO:-0500
TZNAME:EST
DTSTART:20201101T060000
END:STANDARD
BEGIN:DAYLIGHT
TZOFFSETFROM:-0500
TZOFFSETTO:-0400
TZNAME:EDT
DTSTART:20210314T070000
END:DAYLIGHT
BEGIN:STANDARD
TZOFFSETFROM:-0400
TZOFFSETTO:-0500
TZNAME:EST
DTSTART:20211107T060000
END:STANDARD
END:VTIMEZONE
BEGIN:VEVENT
DTSTART;TZID=America/New_York:20200324T173000
DTEND;TZID=America/New_York:20200324T203000
DTSTAMP:20260424T194702
CREATED:20200218T205321Z
LAST-MODIFIED:20200218T205321Z
UID:21836-1585071000-1585081800@globalcincinnati.org
SUMMARY:Stir! The Multicultural Networking Reception
DESCRIPTION:Join us at Stir! The Multicultural Networking Reception hosted by the Cincinnati Multicultural Chamber Collaborative on March 24th from 5:30 – 7:30 PM.
URL:https://globalcincinnati.org/event/stir-the-multicultural-networking-reception/
LOCATION:Hilton Cincinnati Netherland Plaza\, 35 W 5th Street\, Cincinnati\, OH\, 45202\, United States
END:VEVENT
END:VCALENDAR