BEGIN:VCALENDAR
VERSION:2.0
PRODID:-//World Affairs Council of Cincinnati and Northern Kentucky - ECPv6.15.20//NONSGML v1.0//EN
CALSCALE:GREGORIAN
METHOD:PUBLISH
X-WR-CALNAME:World Affairs Council of Cincinnati and Northern Kentucky
X-ORIGINAL-URL:https://globalcincinnati.org
X-WR-CALDESC:Events for World Affairs Council of Cincinnati and Northern Kentucky
REFRESH-INTERVAL;VALUE=DURATION:PT1H
X-Robots-Tag:noindex
X-PUBLISHED-TTL:PT1H
BEGIN:VTIMEZONE
TZID:America/New_York
BEGIN:DAYLIGHT
TZOFFSETFROM:-0500
TZOFFSETTO:-0400
TZNAME:EDT
DTSTART:20190310T070000
END:DAYLIGHT
BEGIN:STANDARD
TZOFFSETFROM:-0400
TZOFFSETTO:-0500
TZNAME:EST
DTSTART:20191103T060000
END:STANDARD
BEGIN:DAYLIGHT
TZOFFSETFROM:-0500
TZOFFSETTO:-0400
TZNAME:EDT
DTSTART:20200308T070000
END:DAYLIGHT
BEGIN:STANDARD
TZOFFSETFROM:-0400
TZOFFSETTO:-0500
TZNAME:EST
DTSTART:20201101T060000
END:STANDARD
BEGIN:DAYLIGHT
TZOFFSETFROM:-0500
TZOFFSETTO:-0400
TZNAME:EDT
DTSTART:20210314T070000
END:DAYLIGHT
BEGIN:STANDARD
TZOFFSETFROM:-0400
TZOFFSETTO:-0500
TZNAME:EST
DTSTART:20211107T060000
END:STANDARD
END:VTIMEZONE
BEGIN:VEVENT
DTSTART;TZID=America/New_York:20200330T100000
DTEND;TZID=America/New_York:20200330T113000
DTSTAMP:20260424T173245
CREATED:20200326T131749Z
LAST-MODIFIED:20200326T131749Z
UID:21900-1585562400-1585567800@globalcincinnati.org
SUMMARY:The State of Human Rights in North Korea | KEI Livestream Program
DESCRIPTION:The Korea Economic Institute of America\, WACA partner and co-sponsor of WACA’s Future of Korea grant program\, will host a livestream panel discussion on “The State of Human Rights in North Korea\,” featuring:\n\n\nAmbassador Robert King\, former U.S. Special Envoy for North Korea Human Rights\, Non-Resident Fellow at the Korea Economic Institute of America\nGreg Scarlatoiu\, Executive Director of the Committee for Human Rights in North Korea\nMark Tokola\, Moderator\, Vice President of the Korea Economic Institute of America\n\n\nThe State Department’s 2019 Human Rights Report continues to be as tough in its language on North Korean human rights violations as were its 2018 and 2017 reports. Along with the February 25\, 2020 report of the United Nations Human Rights Council and the Korea Institute for National Unification’s 2019 White Paper on Human Rights in North Korea\, there is ample recent documentation showing the continuing abysmal state of human rights in Kim Jong-un’s North Korea.\n\nThis event will be livestreamed on Zoom with an interactive Q&A session\, during which you will be able to ask a question of the speakers by using the Zoom Q&A function.\n\nPlease RSVP to receive the webinar link on the day of the event.
URL:https://globalcincinnati.org/event/the-state-of-human-rights-in-north-korea-kei-livestream-program/
ATTACH;FMTTYPE=image/png:https://globalcincinnati.org/wp-content/uploads/2020/03/Screen-Shot-2020-03-26-at-10.16.34-AM.png
END:VEVENT
END:VCALENDAR