BEGIN:VCALENDAR
VERSION:2.0
PRODID:-//World Affairs Council of Cincinnati and Northern Kentucky - ECPv6.15.20//NONSGML v1.0//EN
CALSCALE:GREGORIAN
METHOD:PUBLISH
X-ORIGINAL-URL:https://globalcincinnati.org
X-WR-CALDESC:Events for World Affairs Council of Cincinnati and Northern Kentucky
REFRESH-INTERVAL;VALUE=DURATION:PT1H
X-Robots-Tag:noindex
X-PUBLISHED-TTL:PT1H
BEGIN:VTIMEZONE
TZID:America/New_York
BEGIN:DAYLIGHT
TZOFFSETFROM:-0500
TZOFFSETTO:-0400
TZNAME:EDT
DTSTART:20190310T070000
END:DAYLIGHT
BEGIN:STANDARD
TZOFFSETFROM:-0400
TZOFFSETTO:-0500
TZNAME:EST
DTSTART:20191103T060000
END:STANDARD
BEGIN:DAYLIGHT
TZOFFSETFROM:-0500
TZOFFSETTO:-0400
TZNAME:EDT
DTSTART:20200308T070000
END:DAYLIGHT
BEGIN:STANDARD
TZOFFSETFROM:-0400
TZOFFSETTO:-0500
TZNAME:EST
DTSTART:20201101T060000
END:STANDARD
BEGIN:DAYLIGHT
TZOFFSETFROM:-0500
TZOFFSETTO:-0400
TZNAME:EDT
DTSTART:20210314T070000
END:DAYLIGHT
BEGIN:STANDARD
TZOFFSETFROM:-0400
TZOFFSETTO:-0500
TZNAME:EST
DTSTART:20211107T060000
END:STANDARD
END:VTIMEZONE
BEGIN:VEVENT
DTSTART;TZID=America/New_York:20200331T170000
DTEND;TZID=America/New_York:20200331T180000
DTSTAMP:20260424T173657
CREATED:20200326T133508Z
LAST-MODIFIED:20200326T133508Z
UID:21906-1585674000-1585677600@globalcincinnati.org
SUMMARY:Diplomacy & Pandemics | E-Talk Series
DESCRIPTION:The San Diego Diplomacy Council is pleased to kick off our E-Talk-About Series with a virtual discussion on the implications of the current Covid-19 pandemic to global diplomacy. M.D. Dr. Dekleva will give a brief presentation\, and then engage with attendees for Q&A. This 15-20 minute lecture will take place over Zoom on Tuesday\, March 31 from 5-6 pm Pacific Time. \nDr. Kenneth Dekleva is currently an Associate Professor of Psychiatry at the Peter J. O’Donnell Brain Inst.\, UT Southwestern Medical Center\, Dallas\, TX\, where he holds the McKenzie Foundation I Chair in Psychiatry and is Director\, Psychiatry-Medicine Integration. \nDuring 2002-2016\, he served as a Regional Medical Officer/Psychiatrist with the U.S. Department of State\, retiring at the rank of Minister-Counselor.  He served in Moscow\, New Delhi\, Mexico City\, Vienna\, London\, and did a tour in Washington DC as Director of Mental-Health Services [world-wide] during 2013-2015. His experience both overseas (during SARS and H1N1) as well as in Washington DC (during Ebola) included working with medical colleagues in coordinating the behavioral-health response to such epidemics/pandemics.  Since 2016\, he has published and lectured extensively in the field of leadership psychology\, focusing upon analyses of world leaders for national security purposes.  He is board-certified in psychiatry and has an extensive background in integrated care\, management consultation\, behavioral-health support to elite teams\, and forensic psychiatry.
URL:https://globalcincinnati.org/event/diplomacy-pandemics-e-talk-series/
END:VEVENT
END:VCALENDAR