BEGIN:VCALENDAR
VERSION:2.0
PRODID:-//World Affairs Council of Cincinnati and Northern Kentucky - ECPv6.15.20//NONSGML v1.0//EN
CALSCALE:GREGORIAN
METHOD:PUBLISH
X-ORIGINAL-URL:https://globalcincinnati.org
X-WR-CALDESC:Events for World Affairs Council of Cincinnati and Northern Kentucky
REFRESH-INTERVAL;VALUE=DURATION:PT1H
X-Robots-Tag:noindex
X-PUBLISHED-TTL:PT1H
BEGIN:VTIMEZONE
TZID:America/New_York
BEGIN:DAYLIGHT
TZOFFSETFROM:-0500
TZOFFSETTO:-0400
TZNAME:EDT
DTSTART:20190310T070000
END:DAYLIGHT
BEGIN:STANDARD
TZOFFSETFROM:-0400
TZOFFSETTO:-0500
TZNAME:EST
DTSTART:20191103T060000
END:STANDARD
BEGIN:DAYLIGHT
TZOFFSETFROM:-0500
TZOFFSETTO:-0400
TZNAME:EDT
DTSTART:20200308T070000
END:DAYLIGHT
BEGIN:STANDARD
TZOFFSETFROM:-0400
TZOFFSETTO:-0500
TZNAME:EST
DTSTART:20201101T060000
END:STANDARD
BEGIN:DAYLIGHT
TZOFFSETFROM:-0500
TZOFFSETTO:-0400
TZNAME:EDT
DTSTART:20210314T070000
END:DAYLIGHT
BEGIN:STANDARD
TZOFFSETFROM:-0400
TZOFFSETTO:-0500
TZNAME:EST
DTSTART:20211107T060000
END:STANDARD
END:VTIMEZONE
BEGIN:VEVENT
DTSTART;TZID=America/New_York:20200430T150000
DTEND;TZID=America/New_York:20200430T160000
DTSTAMP:20260424T173441
CREATED:20200427T155433Z
LAST-MODIFIED:20200427T155507Z
UID:22091-1588258800-1588262400@globalcincinnati.org
SUMMARY:Ask Doctors Anything: Local and Global Impacts of COVID-19
DESCRIPTION:  \nJoin us in welcoming guest speakers Professor Victoria Wells Wulsin\, MD\, DrPH\, Founder of SOTENI International; Director of Preventive Medicine and Global Health\, University Health Services\, University of Cincinnati\nand Dr. Shibabrata Mukherjee\, PhD\, Immunologist \, Cincinnati Children’s Hospital Medical Center\nas they discuss the local and global impacts of COVID-19\, with a question and answer session to follow! \nRegister here: https://attendee.gotowebinar.com/register/1909005480021161227 \nA $5 registration donation is suggested\, but if you are unable to make this donation at this time\, reach out to ekremer@cincyworldaffairs.org for a discount code.
URL:https://globalcincinnati.org/event/ask-doctors-anything-local-and-global-impacts-of-covid-19/
END:VEVENT
END:VCALENDAR