BEGIN:VCALENDAR
VERSION:2.0
PRODID:-//World Affairs Council of Cincinnati and Northern Kentucky - ECPv6.15.20//NONSGML v1.0//EN
CALSCALE:GREGORIAN
METHOD:PUBLISH
X-WR-CALNAME:World Affairs Council of Cincinnati and Northern Kentucky
X-ORIGINAL-URL:https://globalcincinnati.org
X-WR-CALDESC:Events for World Affairs Council of Cincinnati and Northern Kentucky
REFRESH-INTERVAL;VALUE=DURATION:PT1H
X-Robots-Tag:noindex
X-PUBLISHED-TTL:PT1H
BEGIN:VTIMEZONE
TZID:America/New_York
BEGIN:DAYLIGHT
TZOFFSETFROM:-0500
TZOFFSETTO:-0400
TZNAME:EDT
DTSTART:20190310T070000
END:DAYLIGHT
BEGIN:STANDARD
TZOFFSETFROM:-0400
TZOFFSETTO:-0500
TZNAME:EST
DTSTART:20191103T060000
END:STANDARD
BEGIN:DAYLIGHT
TZOFFSETFROM:-0500
TZOFFSETTO:-0400
TZNAME:EDT
DTSTART:20200308T070000
END:DAYLIGHT
BEGIN:STANDARD
TZOFFSETFROM:-0400
TZOFFSETTO:-0500
TZNAME:EST
DTSTART:20201101T060000
END:STANDARD
BEGIN:DAYLIGHT
TZOFFSETFROM:-0500
TZOFFSETTO:-0400
TZNAME:EDT
DTSTART:20210314T070000
END:DAYLIGHT
BEGIN:STANDARD
TZOFFSETFROM:-0400
TZOFFSETTO:-0500
TZNAME:EST
DTSTART:20211107T060000
END:STANDARD
END:VTIMEZONE
BEGIN:VEVENT
DTSTART;TZID=America/New_York:20200526T170000
DTEND;TZID=America/New_York:20200526T180000
DTSTAMP:20260424T191931
CREATED:20200526T150228Z
LAST-MODIFIED:20200526T150717Z
UID:22168-1590512400-1590516000@globalcincinnati.org
SUMMARY:Global Pop Trivia - Week 2!
DESCRIPTION:WorldQuest: Global Pop Trivia is bringing together member organizations of the World Affairs Councils of America and Global Ties U.S. network for this national level trivia competition! Each local organization will host four weeks of online trivia competitions – the top two performing players from each local organization will be entered into the national competition in June 15. One lucky winner will get a free ticket to the WACA 2020 National Conference in Washington\, DC \nEach week\, the winner will receive a $10 restaurant gift card! \n$10 Suggested Donation \nRegister Here: https://globalcincinnati.networkforgood.com/events/21138-world-quest-global-pop-trivia-week-2 \nWeek 1: 5/19/20 \nWeek 2: 5/26/20 \nWeek 3: 6/2/20 \nWeek 4: 6/9/20 \nWeek 5\, *National Competition*: 6/17/20 \n$10 Suggested Donation
URL:https://globalcincinnati.org/event/global-pop-trivia-week-2/
ATTACH;FMTTYPE=image/png:https://globalcincinnati.org/wp-content/uploads/2020/05/A-Global-Pop-Trivia-Logo-National.png
END:VEVENT
END:VCALENDAR