BEGIN:VCALENDAR
VERSION:2.0
PRODID:-//World Affairs Council of Cincinnati and Northern Kentucky - ECPv6.15.20//NONSGML v1.0//EN
CALSCALE:GREGORIAN
METHOD:PUBLISH
X-ORIGINAL-URL:https://globalcincinnati.org
X-WR-CALDESC:Events for World Affairs Council of Cincinnati and Northern Kentucky
REFRESH-INTERVAL;VALUE=DURATION:PT1H
X-Robots-Tag:noindex
X-PUBLISHED-TTL:PT1H
BEGIN:VTIMEZONE
TZID:America/New_York
BEGIN:DAYLIGHT
TZOFFSETFROM:-0500
TZOFFSETTO:-0400
TZNAME:EDT
DTSTART:20190310T070000
END:DAYLIGHT
BEGIN:STANDARD
TZOFFSETFROM:-0400
TZOFFSETTO:-0500
TZNAME:EST
DTSTART:20191103T060000
END:STANDARD
BEGIN:DAYLIGHT
TZOFFSETFROM:-0500
TZOFFSETTO:-0400
TZNAME:EDT
DTSTART:20200308T070000
END:DAYLIGHT
BEGIN:STANDARD
TZOFFSETFROM:-0400
TZOFFSETTO:-0500
TZNAME:EST
DTSTART:20201101T060000
END:STANDARD
BEGIN:DAYLIGHT
TZOFFSETFROM:-0500
TZOFFSETTO:-0400
TZNAME:EDT
DTSTART:20210314T070000
END:DAYLIGHT
BEGIN:STANDARD
TZOFFSETFROM:-0400
TZOFFSETTO:-0500
TZNAME:EST
DTSTART:20211107T060000
END:STANDARD
END:VTIMEZONE
BEGIN:VEVENT
DTSTART;TZID=America/New_York:20200723T161500
DTEND;TZID=America/New_York:20200723T173000
DTSTAMP:20260424T232604
CREATED:20200708T144522Z
LAST-MODIFIED:20200708T144522Z
UID:22247-1595520900-1595525400@globalcincinnati.org
SUMMARY:"Navigating the New Normal: A Port Perspective” with Dr. Noel Hacegaba\,  Deputy Executive Director Port of Long Beach
DESCRIPTION:Dr. Noel Hacegaba is responsible for managing the day-to-day administrative and operating functions of the Port\, including finance\, human resources\, real estate\, commercial operations and security. More recently\, he served as the Port’s Managing Director of Commercial Operations and was responsible for developing and executing business development strategies to drive volume and revenue growth during a period of significant industry realignment. Dr. Hacegaba’s career at the Port began in 2010 as the Executive Officer to the Board of Harbor Commissioners.\n\nPrior to joining the Port\, Dr. Hacegaba managed $200 million in contracts for a Fortune 500 company. He has also served as a chief of staff for an elected official\, a business executive for a global trade company\, a research analyst for a policy research group and as a management consultant.\n\nA two-time graduate of USC\, he holds bachelor’s and master’s degrees in economics\, business administration and urban planning. He also earned his doctorate degree in public administration from the University of La Verne.\n\nAs part of his service to the industry\, Dr. Hacegaba serves on the Boards of Directors of the Intermodal Association of North America and the Marine Exchange of Southern California and he also Chairs the Professional Development Board for the American Association of Port Authorities.
URL:https://globalcincinnati.org/event/navigating-the-new-normal-a-port-perspective-with-dr-noel-hacegaba-deputy-executive-director-port-of-long-beach/
END:VEVENT
END:VCALENDAR