BEGIN:VCALENDAR
VERSION:2.0
PRODID:-//World Affairs Council of Cincinnati and Northern Kentucky - ECPv6.15.20//NONSGML v1.0//EN
CALSCALE:GREGORIAN
METHOD:PUBLISH
X-WR-CALNAME:World Affairs Council of Cincinnati and Northern Kentucky
X-ORIGINAL-URL:https://globalcincinnati.org
X-WR-CALDESC:Events for World Affairs Council of Cincinnati and Northern Kentucky
REFRESH-INTERVAL;VALUE=DURATION:PT1H
X-Robots-Tag:noindex
X-PUBLISHED-TTL:PT1H
BEGIN:VTIMEZONE
TZID:America/New_York
BEGIN:DAYLIGHT
TZOFFSETFROM:-0500
TZOFFSETTO:-0400
TZNAME:EDT
DTSTART:20190310T070000
END:DAYLIGHT
BEGIN:STANDARD
TZOFFSETFROM:-0400
TZOFFSETTO:-0500
TZNAME:EST
DTSTART:20191103T060000
END:STANDARD
BEGIN:DAYLIGHT
TZOFFSETFROM:-0500
TZOFFSETTO:-0400
TZNAME:EDT
DTSTART:20200308T070000
END:DAYLIGHT
BEGIN:STANDARD
TZOFFSETFROM:-0400
TZOFFSETTO:-0500
TZNAME:EST
DTSTART:20201101T060000
END:STANDARD
BEGIN:DAYLIGHT
TZOFFSETFROM:-0500
TZOFFSETTO:-0400
TZNAME:EDT
DTSTART:20210314T070000
END:DAYLIGHT
BEGIN:STANDARD
TZOFFSETFROM:-0400
TZOFFSETTO:-0500
TZNAME:EST
DTSTART:20211107T060000
END:STANDARD
END:VTIMEZONE
BEGIN:VEVENT
DTSTART;VALUE=DATE:20200727
DTEND;VALUE=DATE:20200801
DTSTAMP:20260424T232516
CREATED:20200727T151352Z
LAST-MODIFIED:20200727T151352Z
UID:22265-1595808000-1596239999@globalcincinnati.org
SUMMARY:Tempest-Tossed: Borders and Immigration - Global Leaders Online Program (High School Students)
DESCRIPTION:Week 4 (July 27-31): The devastation of the Second World War left seven to eleven million people searching for a new home; today there are over 70 million refugees or displaced people worldwide. Despite being signatories to the United Nations Declaration of Human Rights and its promise of freedom of movement\, today’s economic powers nonetheless vacillate between open\, semi-open\, and closed borders in their approaches to immigration from developing nations. Meanwhile\, San Diego lies a stone’s throw from the world’s second-busiest land-border crossing. In this session\, students will reflect on the challenges and opportunities posed by ever-increasing global migration and the ways in which state\, international\, and non-governmental organizations respond.
URL:https://globalcincinnati.org/event/tempest-tossed-borders-and-immigration-global-leaders-online-program-high-school-students/
END:VEVENT
END:VCALENDAR