BEGIN:VCALENDAR
VERSION:2.0
PRODID:-//World Affairs Council of Cincinnati and Northern Kentucky - ECPv6.15.20//NONSGML v1.0//EN
CALSCALE:GREGORIAN
METHOD:PUBLISH
X-ORIGINAL-URL:https://globalcincinnati.org
X-WR-CALDESC:Events for World Affairs Council of Cincinnati and Northern Kentucky
REFRESH-INTERVAL;VALUE=DURATION:PT1H
X-Robots-Tag:noindex
X-PUBLISHED-TTL:PT1H
BEGIN:VTIMEZONE
TZID:America/New_York
BEGIN:DAYLIGHT
TZOFFSETFROM:-0500
TZOFFSETTO:-0400
TZNAME:EDT
DTSTART:20250309T070000
END:DAYLIGHT
BEGIN:STANDARD
TZOFFSETFROM:-0400
TZOFFSETTO:-0500
TZNAME:EST
DTSTART:20251102T060000
END:STANDARD
BEGIN:DAYLIGHT
TZOFFSETFROM:-0500
TZOFFSETTO:-0400
TZNAME:EDT
DTSTART:20260308T070000
END:DAYLIGHT
BEGIN:STANDARD
TZOFFSETFROM:-0400
TZOFFSETTO:-0500
TZNAME:EST
DTSTART:20261101T060000
END:STANDARD
BEGIN:DAYLIGHT
TZOFFSETFROM:-0500
TZOFFSETTO:-0400
TZNAME:EDT
DTSTART:20270314T070000
END:DAYLIGHT
BEGIN:STANDARD
TZOFFSETFROM:-0400
TZOFFSETTO:-0500
TZNAME:EST
DTSTART:20271107T060000
END:STANDARD
END:VTIMEZONE
BEGIN:VEVENT
DTSTART;TZID=America/New_York:20260129T160000
DTEND;TZID=America/New_York:20260129T170000
DTSTAMP:20260424T233610
CREATED:20251218T142258Z
LAST-MODIFIED:20251218T142258Z
UID:28266-1769702400-1769706000@globalcincinnati.org
SUMMARY:Supporting Every Voice: AI-Enhanced Classrooms for Multilingual Learners
DESCRIPTION:Artificial intelligence is opening new doors for supporting multilingual learners—making it easier than ever to translate materials\, adapt lessons\, and connect across languages. In this session\, you’ll see how AI can help simplify complex texts\, create bilingual resources\, and strengthen communication between teachers\, students\, and families. Learn how to use AI tools thoughtfully to bridge language gaps\, celebrate linguistic diversity\, and build classrooms where every student feels seen\, supported\, and included.\n\n\n\n\n\n\n\nExplore AI tools that support multilingual learners through translation\, text simplification\, and bilingual resource creation.\nLearn how AI can strengthen communication between teachers\, multilingual students\, and their families.\nUnderstand simple\, responsible ways to use AI to bridge language gaps and create more inclusive classrooms.\n\nTickets are $20. Scholarships available!
URL:https://globalcincinnati.org/event/supporting-every-voice-ai-enhanced-classrooms-for-multilingual-learners/
LOCATION:Virtual Event
CATEGORIES:Global Education,Virtual
ATTACH;FMTTYPE=image/png:https://globalcincinnati.org/wp-content/uploads/2025/12/HCESC-Event-with-boarder-1.png
END:VEVENT
END:VCALENDAR