BEGIN:VCALENDAR
VERSION:2.0
PRODID:-//World Affairs Council of Cincinnati and Northern Kentucky - ECPv6.15.20//NONSGML v1.0//EN
CALSCALE:GREGORIAN
METHOD:PUBLISH
X-WR-CALNAME:World Affairs Council of Cincinnati and Northern Kentucky
X-ORIGINAL-URL:https://globalcincinnati.org
X-WR-CALDESC:Events for World Affairs Council of Cincinnati and Northern Kentucky
REFRESH-INTERVAL;VALUE=DURATION:PT1H
X-Robots-Tag:noindex
X-PUBLISHED-TTL:PT1H
BEGIN:VTIMEZONE
TZID:America/New_York
BEGIN:DAYLIGHT
TZOFFSETFROM:-0500
TZOFFSETTO:-0400
TZNAME:EDT
DTSTART:20230312T070000
END:DAYLIGHT
BEGIN:STANDARD
TZOFFSETFROM:-0400
TZOFFSETTO:-0500
TZNAME:EST
DTSTART:20231105T060000
END:STANDARD
BEGIN:DAYLIGHT
TZOFFSETFROM:-0500
TZOFFSETTO:-0400
TZNAME:EDT
DTSTART:20240310T070000
END:DAYLIGHT
BEGIN:STANDARD
TZOFFSETFROM:-0400
TZOFFSETTO:-0500
TZNAME:EST
DTSTART:20241103T060000
END:STANDARD
BEGIN:DAYLIGHT
TZOFFSETFROM:-0500
TZOFFSETTO:-0400
TZNAME:EDT
DTSTART:20250309T070000
END:DAYLIGHT
BEGIN:STANDARD
TZOFFSETFROM:-0400
TZOFFSETTO:-0500
TZNAME:EST
DTSTART:20251102T060000
END:STANDARD
END:VTIMEZONE
BEGIN:VTIMEZONE
TZID:America/New_York
BEGIN:DAYLIGHT
TZOFFSETFROM:-0500
TZOFFSETTO:-0400
TZNAME:EDT
DTSTART:20200308T070000
END:DAYLIGHT
BEGIN:STANDARD
TZOFFSETFROM:-0400
TZOFFSETTO:-0500
TZNAME:EST
DTSTART:20201101T060000
END:STANDARD
BEGIN:DAYLIGHT
TZOFFSETFROM:-0500
TZOFFSETTO:-0400
TZNAME:EDT
DTSTART:20210314T070000
END:DAYLIGHT
BEGIN:STANDARD
TZOFFSETFROM:-0400
TZOFFSETTO:-0500
TZNAME:EST
DTSTART:20211107T060000
END:STANDARD
BEGIN:DAYLIGHT
TZOFFSETFROM:-0500
TZOFFSETTO:-0400
TZNAME:EDT
DTSTART:20220313T070000
END:DAYLIGHT
BEGIN:STANDARD
TZOFFSETFROM:-0400
TZOFFSETTO:-0500
TZNAME:EST
DTSTART:20221106T060000
END:STANDARD
BEGIN:DAYLIGHT
TZOFFSETFROM:-0500
TZOFFSETTO:-0400
TZNAME:EDT
DTSTART:20230312T070000
END:DAYLIGHT
BEGIN:STANDARD
TZOFFSETFROM:-0400
TZOFFSETTO:-0500
TZNAME:EST
DTSTART:20231105T060000
END:STANDARD
BEGIN:DAYLIGHT
TZOFFSETFROM:-0500
TZOFFSETTO:-0400
TZNAME:EDT
DTSTART:20240310T070000
END:DAYLIGHT
BEGIN:STANDARD
TZOFFSETFROM:-0400
TZOFFSETTO:-0500
TZNAME:EST
DTSTART:20241103T060000
END:STANDARD
END:VTIMEZONE
BEGIN:VEVENT
DTSTART;TZID=America/New_York:20240305T080000
DTEND;TZID=America/New_York:20240308T170000
DTSTAMP:20260425T000922
CREATED:20240108T220540Z
LAST-MODIFIED:20240206T140351Z
UID:26322-1709625600-1709917200@globalcincinnati.org
SUMMARY:2024 Global Ties National Meeting in DC
DESCRIPTION:  \nJoin us March 5-8 at the Crystal Gateway Marriott in Arlington\, VA as we explore Diplomacy in Action: Raising Community Voices through interactive sessions\, dynamic keynotes\, evening receptions\, and more. The registration deadline is Friday\, February 23 – secure your spot by January 19 to receive an early-bird discount! Register Here ! If you have questions\, check out our FAQs page\, and if you don’t find what you need there\, reach out to NationalMeeting@GlobalTiesUS.org. \nFrom the Global Ties website: \nThe Global Ties U.S. National Meeting is the premier annual gathering of international exchange and public diplomacy professionals and supporters from government agencies\, the private-sector\, nonprofit organizations\, and academia. Held in the Washington\, DC-area\, the National Meeting brings together participants to gain high-level insights on trends affecting the international exchange and public diplomacy field\, engage in in-depth professional development opportunities\, and build networks to strengthen our missions focused on citizen engagement in foreign affairs. \nThe 2024 National Meeting theme is Diplomacy in Action: Raising Community Voices. \nInternational exchange programs have long been a way to humanize foreign affairs. They are also a powerful platform to create a greater sense of civic engagement\, community pride\, and appreciation of diverse cultural groups. This theme dives into the critical\, socio-cultural impact of our work and is also a call to action to ensure we’re reflecting the rich diversity of the United States. Exchange programs are for everyone\, and by expanding access to global engagement and raising diverse voices\, we can make our communities and our world stronger. \nBy weaving our theme into session programming\, we aim to convey how we’re engaging\, amplifying\, and raising these diverse voices to build community\, expand access to global opportunities\, and advance our mission to power individuals\, communities\, and nations to build trust through international exchange.
URL:https://globalcincinnati.org/event/2024-global-ties-national-meeting-in-dc/
CATEGORIES:Conference
ATTACH;FMTTYPE=image/webp:https://globalcincinnati.org/wp-content/uploads/2024/01/Meeting-Event-Pic.webp
ORGANIZER;CN="Global Ties U.S.":MAILTO:info@globaltiesus.org
END:VEVENT
BEGIN:VEVENT
DTSTART;VALUE=DATE:20230329
DTEND;VALUE=DATE:20230401
DTSTAMP:20260425T000922
CREATED:20230127T174119Z
LAST-MODIFIED:20230127T174119Z
UID:25526-1680048000-1680307199@globalcincinnati.org
SUMMARY:Global Ties U.S. National Meeting
DESCRIPTION:The Global Ties U.S. National Meeting is the premier gathering of international exchange and public diplomacy professionals and supporters from government agencies\, the private-sector\, nonprofit organizations\, and academia. Held in the Washington\, DC-area\, the National Meeting brings together participants across three days to gain high-level insights on trends affecting the international exchange and public diplomacy field\, engage in in-depth professional development opportunities\, and build networks to strengthen our missions focused on citizen engagement in foreign affairs. \nThe last few years have been extraordinary for our country and the world. We’ve collectively adjusted\, again and again\, how we work and communicate. Yet through it all\, we’ve seen the remarkable strength and resiliency of the people and relationships that are at the core of our Global Ties Network and our international exchange missions. We’ve seen the power of local\, national\, and global communities in action. All of these are reasons why this year’s theme is (Re)Building Community: Globally & Locally. \nFrom sharing ideas and innovations that are making our organizations stronger\, to investing in new leaders and partners who will continue our work into future generations\, we are (re)affirming our commitment to citizen diplomacy and (re)building our community\, here and around the world. We hope you’ll join us at the Global Ties U.S. 2023 National Meeting to (re)connect\, (re)engage\, and (re)discover ​the power and potential of our exchange and public diplomacy community.
URL:https://globalcincinnati.org/event/global-ties-u-s-national-meeting/
CATEGORIES:Conference
ORGANIZER;CN="Global Ties U.S.":MAILTO:info@globaltiesus.org
END:VEVENT
BEGIN:VEVENT
DTSTART;TZID=America/New_York:20221111T080000
DTEND;TZID=America/New_York:20221111T133000
DTSTAMP:20260425T000922
CREATED:20221018T163332Z
LAST-MODIFIED:20221019T104244Z
UID:25362-1668153600-1668173400@globalcincinnati.org
SUMMARY:International Education Summit
DESCRIPTION:The 16th Annual International Education Summit (IES) will return to in-person this year! We are excited to offer interactive informative workshops for students with sessions focused on Climate Action. This year’s Summit will provide numerous opportunities to engage with international and local educators\, community partners\, and business leaders\, etc. We look forward to welcoming you and your students to NKU! 
URL:https://globalcincinnati.org/event/international-education-summit/
LOCATION:NKU Student Union Ballroom\, 20 Kenton Dr.\, Highland Heights\, KY\, Highland Heights\, KY\, 41076\, United States
CATEGORIES:Conference,Global Education,International Education Summit
END:VEVENT
BEGIN:VEVENT
DTSTART;VALUE=DATE:20220731
DTEND;VALUE=DATE:20220808
DTSTAMP:20260425T000922
CREATED:20220701T124120Z
LAST-MODIFIED:20220701T124120Z
UID:25098-1659225600-1659916799@globalcincinnati.org
SUMMARY:The 5th Annual Cincinnati Festival of Faiths
DESCRIPTION:
URL:https://globalcincinnati.org/event/the-5th-annual-cincinnati-festival-of-faiths/
LOCATION:Multiple
CATEGORIES:Conference,Discussion,Diversity,Networking
ORGANIZER;CN="Equasion":MAILTO:cincifestivaloffaiths@gmail.com
END:VEVENT
BEGIN:VEVENT
DTSTART;VALUE=DATE:20220616
DTEND;VALUE=DATE:20220617
DTSTAMP:20260425T000922
CREATED:20220516T193129Z
LAST-MODIFIED:20220516T193129Z
UID:25058-1655337600-1655423999@globalcincinnati.org
SUMMARY:Midwest Regional Sustainability Summit
DESCRIPTION:Join us as we explore Emergent Strategies for an Equitable\, Climate Prepared Region.\nIn-person tickets to all days of events are limited. Please secure your spot early. \nAward nominations and speaker\, field trip and art submissions have closed. \nLearn more about opportunities to sponsor the Summit.​ \nOur program includes a keynote\, plenary\, breakout sessions and short talks covering a broad range of relevant topics\, including: \n\n\nHealthy & Resilient Communities \n\n\nBusiness & Green\, Circular Economy \n\n\nGovernment & Policy \n\n\nHealthy\, High-Performing Infrastructure \n\n\nCreating a Food Secure Community \n\n\nClimate Justice\, Equity & Inclusion \n\n\nEmergency Preparedness
URL:https://globalcincinnati.org/event/midwest-regional-sustainability-summit/
LOCATION:Hybrid
CATEGORIES:Conference,Discussion,Local,Virtual
END:VEVENT
BEGIN:VEVENT
DTSTART;TZID=America/New_York:20220610T073000
DTEND;TZID=America/New_York:20220610T120000
DTSTAMP:20260425T000922
CREATED:20220516T193343Z
LAST-MODIFIED:20220516T193343Z
UID:25062-1654846200-1654862400@globalcincinnati.org
SUMMARY:IDEA Summit 2022
DESCRIPTION:The Northern Kentucky Chamber of Commerce (NKY Chamber) and St. Elizabeth Healthcare are partnering to host the first IDEA Summit – Building an Inclusive Community: The Business Case for Diversity\, Equity and Inclusion powered by Fifth Third Bank. The event will be held from 8 a.m. to Noon on Friday\, June 10\, at the St. Elizabeth Training and Education Center (3861 Olympic Blvd.\, Erlanger\, Ky.\, 41018) and will address removing barriers to employment\, effective talent attraction and retention strategies\, the importance of an inclusive workplace culture and building a plan for supplier diversity. \nTentative Event Schedule\n7:30am – 8am: Registration/Breakfast/Networking \n8am – 9am: Welcome and Keynote Speaker Stephanie A. Smith from Fifth Third \n9am – 10am: Panel Discussion – All hands on deck: Removing Barriers to Employment. Panel moderator Dr. Eddie Howard\, VP of Student Affairs at NKU. \nPanel: John Hawkins MPI Consulting\, Catrena Bowman-Thomas NKCAC\, Alecia Webb-Edgington Life Learning Center\, Paco Tello\, Pefetti Van Melle \n10am – 12pm: Break Out Sessions (Topics TBD) \n  \nCost to Attend \n\n\n\nMember Rate\n$55\n\n\nFuture Member Rate\n$70\n\n\nNKYP Pass Rate\n$50\n\n\n\nPre-registration is required. Click the “Register” button to reserve your seat!  The NKY Chamber has a 48-hour cancellation policy for all events.
URL:https://globalcincinnati.org/event/idea-summit-2022/
LOCATION:St. Elizabeth Training and Education Center
CATEGORIES:Conference,Discussion,Diversity,Local,Networking
END:VEVENT
BEGIN:VEVENT
DTSTART;TZID=America/New_York:20211021T090000
DTEND;TZID=America/New_York:20211021T100000
DTSTAMP:20260425T000922
CREATED:20210927T141013Z
LAST-MODIFIED:20211020T131855Z
UID:24310-1634806800-1634810400@globalcincinnati.org
SUMMARY:The Value of Global Competence: Views from Young Professionals
DESCRIPTION:About the Program: Join four young professionals (31-40) and learn how curiosity and exposure to international ideas\, education and experiences have led  to different outcomes.  Whether it’s working for a local non-profit on a global problem or in D.C.\,  volunteer work here or abroad\,  or the twists and turns of establishing unexpected careers\, these panelists have stories to tell.  What motivates them and what matters to them on this one planet we all share?  You’ll hear something about their world views and concerns as well as the possibilities global competency and cultural understanding created for them and can for you. Most importantly they will have plenty of time to answer your questions and concerns about your future in the world. \nThis panel discussion will be moderated by Deborah Schultz\, Advisory Board member at the World Affairs Council of Cincinnati and Northern Kentucky and founder of Trans-Borders Solutions. \nPanelists Include: \nDavid Crookham— Major in the US Marine Corps Reserve \nMeagan Hawkins– Communications Director at The Chertoff Group \nThomas Schultz– Data and Program Manager at Green Umbrella \nLindley Winchester— Senior Language Engineer at Amazon \nYou can find more information about our panelists here.
URL:https://globalcincinnati.org/event/globalprofessionalspanel/
CATEGORIES:Conference,Global Education,US Education,Virtual Seminar
ATTACH;FMTTYPE=image/png:https://globalcincinnati.org/wp-content/uploads/2021/09/Education-COVID19-Resources-2.png
END:VEVENT
BEGIN:VEVENT
DTSTART;TZID=America/New_York:20211016T083000
DTEND;TZID=America/New_York:20211016T163000
DTSTAMP:20260425T000922
CREATED:20210826T191526Z
LAST-MODIFIED:20210826T191529Z
UID:24199-1634373000-1634401800@globalcincinnati.org
SUMMARY:Conference - Social Studies: More Relevant Than Ever Before
DESCRIPTION:
URL:https://globalcincinnati.org/event/conference-social-studies-more-relevant-than-ever-before/
LOCATION:Capital University
CATEGORIES:CEU Credit,Conference,Discussion,Global Education,US Education
END:VEVENT
BEGIN:VEVENT
DTSTART;VALUE=DATE:20211001
DTEND;VALUE=DATE:20211003
DTSTAMP:20260425T000922
CREATED:20210722T172115Z
LAST-MODIFIED:20210722T172206Z
UID:24000-1633046400-1633219199@globalcincinnati.org
SUMMARY:Competing for the Future - Global Security Forum
DESCRIPTION:From space to cyber\, the currency of power is changing. \nThis October\, generals\, experts\, and foreign leaders will convene virtually and in-person to address the most critical global security issues of today and the opportunities of tomorrow. \nInnovation isn’t optional. It’s imperative.
URL:https://globalcincinnati.org/event/competing-for-the-future-global-security-forum/
CATEGORIES:Conference,Discussion
END:VEVENT
BEGIN:VEVENT
DTSTART;TZID=America/New_York:20210720T120000
DTEND;TZID=America/New_York:20210720T130000
DTSTAMP:20260425T000922
CREATED:20210709T180044Z
LAST-MODIFIED:20210709T180044Z
UID:23948-1626782400-1626786000@globalcincinnati.org
SUMMARY:The Place of Africa in the 21st Century and Beyond
DESCRIPTION:Join us for a timely\, insightful and instructional discussion and presentation on social justice\, governance\, youth empowerment\, women leadership\, culture and identity\, and other issues pertinent to all Africa related matters. \nTuesday\, July 20 @ 12PM (Noon) EST \n\nPatrick Loch Otieno (PLO) Lumumba is a Kenyan born\, renowned international public speaker\, a high-profile civil servant\, an eloquent lawyer and a staunch Pan-Africanist. PLO has delivered several powerful speeches alluding to or about African solutions to African problems. \nProfessor Lumumba is the Founder of the PLO Lumumba Foundation and a consultant with Lumumba and Lumumba Advocates\, a member of the Africa Justice Group (AJG). He is an Advocate of the High Courts of Kenya and Tanganyika and a certified mediator. He is a Fellow of the Institute of Certified Public Secretaries of Kenya FCPS (K)\, a Fellow of the Kenya Institute of Management (FKIM) and Honorary Fellow of the African Academy of Sciences (FAAS). He is the Chairman of Farafina Investment Group in Monrovia\, Liberia and Economic Strategic Growth and Development Initiative for Africa based in Nigeria. \nHe has authored several books on diverse subjects. With several speeches on diverse subjects delivered in and outside Africa\, Lumumba is recognized as one of the leading public speakers in Africa and the African in Diaspora. He is the founder of several organizations including the PLO Lumumba Foundation\, a charitable organization that has been in operation since 1990. He has also been twice recognized as one of the 100 most influential Africans. \nEvent is FREE to all Members of FPLC and Partner Organizations 
URL:https://globalcincinnati.org/event/the-place-of-africa-in-the-21st-century-and-beyond/
CATEGORIES:Conference,Discussion,Virtual
END:VEVENT
BEGIN:VEVENT
DTSTART;VALUE=DATE:20210720
DTEND;VALUE=DATE:20210722
DTSTAMP:20260425T000922
CREATED:20210709T202527Z
LAST-MODIFIED:20210709T202527Z
UID:23967-1626739200-1626911999@globalcincinnati.org
SUMMARY:PLO Lumumba: Live in Cincinnati
DESCRIPTION:  \nProf. PLO Lumumba will be in Cincinnati between July 20-21. His visit is part of the PLO USA Tour happening across several states and cities with a final stop in Ohio between July 20th and July 26th\, 2021. The themes of the meetings will cover social justice\, governance\, youth empowerment\, women leadership\, culture and identity issues. \n\nProfessor PLO Lumumba is the Founder of the PLO Lumumba Foundation and a consultant with Lumumba and Lumumba Advocates\, a member of the Africa Justice Group (AJG). He is an Advocate of the High Courts of Kenya and Tanganyika and a certified mediator. He is a Fellow of the Institute of Certified Public Secretaries of Kenya FCPS (K)\, a Fellow of the Kenya Institute of Management (FKIM) and an Honorary Fellow of the African Academy of Sciences (FAAS). He is the Chairman of Farafina Investment Group in Monrovia\, Liberia and Economic Strategic Growth and Development Initiative for Africa based in Nigeria. He has authored several books on diverse subjects. With several speeches on diverse subjects delivered in and outside Africa\, Lumumba is recognized as one of the leading public speakers in Africa and the African in Diaspora. He is the founder of several organizations including the PLO Lumumba Foundation\, a charitable organization that has been in operation since 1990. He has also been twice recognized as one of the 100 most influential Africans. \n\nBuy Tickets: \n\nPLO Lumumba Dinner: July 20\, 2021 (6-9PM): https://plocincy1.eventbrite.com\nPLO Lumumba Speech: July 21\, 2021(6-9PM): https://plocincy2.eventbrite.com\n\nIf you would like more information about the comprehensive PLO Lumumba US Tour\, please visit: https://www.plolumumbausatour.com. We look forward to working with you to make his trip memorable and educational for all. \n\nPlease call 513-658-1699 or email me if you have questions.  Have a great day.  Thank you.
URL:https://globalcincinnati.org/event/plo-lumumba-live-in-cincinnati/
CATEGORIES:Conference,Discussion
END:VEVENT
BEGIN:VEVENT
DTSTART;TZID=America/New_York:20210609T083000
DTEND;TZID=America/New_York:20210609T163000
DTSTAMP:20260425T000922
CREATED:20210602T132222Z
LAST-MODIFIED:20210602T132222Z
UID:23845-1623227400-1623256200@globalcincinnati.org
SUMMARY:15th Annual Women Spanning the Globe Leadership Conference
DESCRIPTION:For 15 years\, the Women Spanning the Globe Leadership conference has been the premier destination for curious\, talented\, and ambitious female professionals from the Mid-Atlantic region and beyond. The World Trade Center Institute curates unique and inspiring conferences where female leaders and innovators share ideas\, stories\, and lessons with the goal of connecting and educating rising female leaders. \n  \nAgenda:\n\n\n8:30 am Virtual Conference Hall Opens\n\n\n\n\n8:45 am Welcome & Opening Remarks\n\n\n\n\n9:00 am Keynote Address – Huddle: How Women Unlock Their Collective Power\n\n\n\n\n9:50 am Networking Break\n\n\n\n\n10:00 am Choose One:\n\n\n\n\nBurn: How Grit\, Innovation\, and a Dash of Luck Can Unleash Your Success\n\n\n\n\nIncrease Your Leadership Resiliency | Workshop\n\n\n\n\n11:00 am Choose One:\n\n\n\n\nRethinking Work: Flexibility & Engagement | Panel\n\n\n\n\nManaging Upwards- The I’s Have It | Panel\n\n\n\n\nPersonal Finance Wellness Workshop: The Confidence of a Well Planned Life | Workshop\n\n\n\n\n12:00 pm Virtual Lunch Tables\n\n\n\n\n12:30 pm A Guided Meditation to Tap Into Your Personal Power\n\n\n\n\n1:00 pm Welcome Back\, Afternoon Kick Off\n\n\n\n\n1:15 pm Choose one:\n\n\n\n\nBuilding and Operationalizing Your DEI Strategy | Panel\n\n\n\n\n\n\n\n\nIn today’s business world\, Diversity\, Equity\, and Inclusion (DEI) are often treated as buzzwords. But the reality is\, when you make DEI a priority\, every facet of your organization benefits\, including the bottom line.  There isn’t a one-size-fits-all DEI roadmap\, which leaves many organizations struggling with where to start and how to achieve success through strategy.  In this session\, you will hear from three leading executives who are advancing DEI within their organizations.  \n\n\n\n\n\n\n\n\n\n\n\n\n\n\n\n\n\n\n\n\n\n\nROHINI ANAND PHD\n\nCEO\nRohini Anand LLC\n\n\n\n\n\n\n\n\n\n\n\n\n\n\n\n\n\n\n\n\n\n\n\n\nPRADHEEPA RAMAN\n\nGlobal Head\, Human Resources & Chief Transformation Officer\nStanley Black & Decker\n\n\n\n\n\n\n\n\n\n\n\n\n\n\n\n\n\n\n\n\n\n\n\n\nTCHERNAVIA ROCKER\n\nChief People & Administrative Officer\nUnder Armour\n\n\n\n\n\n\n\n\n\n\n\n\n\n\n\n\n\n\n\n\n\n\n\n\nLATOYA SUPERVILLE\n\nDirector of Supply Chain Innovation\nMcCormick\n\n\n\n\n\n\n\n\n\n\n\n\n\n\n\n\n\n\n\n\n\n\n\n\nJON RAMBEAU\n\nVP & General Manager\nLockheed Martin\n\n\n\n\n\n\n\n\n\n\n\n\n\n\n\n\n\n\n\n\n\nCreating a League of Your Own: Building a Coalition of Allies | Panel\n\n\n\n\n2:15 pm Networking Break\n\n\n\n\n2:30 pm Becoming a Force for Good and a Force for Growth | MasterClass\n\n\n\n\n3:45 pm Closing Remarks\n\n\n\n\n4:00 pm Happy Hour with Live Musical Performance\n\n\n\n\n4:30 pm Conference Ends
URL:https://globalcincinnati.org/event/15th-annual-women-spanning-the-globe-leadership-conference/
CATEGORIES:Conference
END:VEVENT
END:VCALENDAR