BEGIN:VCALENDAR
VERSION:2.0
PRODID:-//World Affairs Council of Cincinnati and Northern Kentucky - ECPv6.15.20//NONSGML v1.0//EN
CALSCALE:GREGORIAN
METHOD:PUBLISH
X-ORIGINAL-URL:https://globalcincinnati.org
X-WR-CALDESC:Events for World Affairs Council of Cincinnati and Northern Kentucky
REFRESH-INTERVAL;VALUE=DURATION:PT1H
X-Robots-Tag:noindex
X-PUBLISHED-TTL:PT1H
BEGIN:VTIMEZONE
TZID:America/New_York
BEGIN:DAYLIGHT
TZOFFSETFROM:-0500
TZOFFSETTO:-0400
TZNAME:EDT
DTSTART:20220313T070000
END:DAYLIGHT
BEGIN:STANDARD
TZOFFSETFROM:-0400
TZOFFSETTO:-0500
TZNAME:EST
DTSTART:20221106T060000
END:STANDARD
BEGIN:DAYLIGHT
TZOFFSETFROM:-0500
TZOFFSETTO:-0400
TZNAME:EDT
DTSTART:20230312T070000
END:DAYLIGHT
BEGIN:STANDARD
TZOFFSETFROM:-0400
TZOFFSETTO:-0500
TZNAME:EST
DTSTART:20231105T060000
END:STANDARD
BEGIN:DAYLIGHT
TZOFFSETFROM:-0500
TZOFFSETTO:-0400
TZNAME:EDT
DTSTART:20240310T070000
END:DAYLIGHT
BEGIN:STANDARD
TZOFFSETFROM:-0400
TZOFFSETTO:-0500
TZNAME:EST
DTSTART:20241103T060000
END:STANDARD
END:VTIMEZONE
BEGIN:VTIMEZONE
TZID:America/New_York
BEGIN:DAYLIGHT
TZOFFSETFROM:-0500
TZOFFSETTO:-0400
TZNAME:EDT
DTSTART:20200308T070000
END:DAYLIGHT
BEGIN:STANDARD
TZOFFSETFROM:-0400
TZOFFSETTO:-0500
TZNAME:EST
DTSTART:20201101T060000
END:STANDARD
BEGIN:DAYLIGHT
TZOFFSETFROM:-0500
TZOFFSETTO:-0400
TZNAME:EDT
DTSTART:20210314T070000
END:DAYLIGHT
BEGIN:STANDARD
TZOFFSETFROM:-0400
TZOFFSETTO:-0500
TZNAME:EST
DTSTART:20211107T060000
END:STANDARD
BEGIN:DAYLIGHT
TZOFFSETFROM:-0500
TZOFFSETTO:-0400
TZNAME:EDT
DTSTART:20220313T070000
END:DAYLIGHT
BEGIN:STANDARD
TZOFFSETFROM:-0400
TZOFFSETTO:-0500
TZNAME:EST
DTSTART:20221106T060000
END:STANDARD
BEGIN:DAYLIGHT
TZOFFSETFROM:-0500
TZOFFSETTO:-0400
TZNAME:EDT
DTSTART:20230312T070000
END:DAYLIGHT
BEGIN:STANDARD
TZOFFSETFROM:-0400
TZOFFSETTO:-0500
TZNAME:EST
DTSTART:20231105T060000
END:STANDARD
END:VTIMEZONE
BEGIN:VEVENT
DTSTART;TZID=America/New_York:20230905T090000
DTEND;TZID=America/New_York:20230905T110000
DTSTAMP:20260425T000928
CREATED:20230807T160853Z
LAST-MODIFIED:20230807T160853Z
UID:25809-1693904400-1693911600@globalcincinnati.org
SUMMARY:Foreign Policy Delegation Reception and Information Exchange
DESCRIPTION:Tuesday\, September 5\, 2023 9:00 AM – 11:00 AM EST\n\n\nNorthern Kentucky Chamber Of Commerce\n300 Buttermilk Pike Suite 330\nFt. Mitchell\, KY 41017\n\n\n\n\n\n\n\n\nJoin us for this reception and information exchange as the NKY Chamber of Commerce\, in partnership with the World Affairs Council – Cincinnati and Northern Kentucky\, hosts a 20-member delegation from the U.S. Department of State’s International Visitor Leadership Program (IVLP) for a discussion on US Foreign Policy Decision Making. \n\nThe program will look at foreign policy from a local level perspective\, immigration in the Midwest\, and tariffs in the Midwest. Program objectives include: \n\n•    Examine the process and key players in formulating\, articulating and implementing foreign policy in the U.S. federal system. \n•    Review U.S. foreign policy priorities and trends in U.S. international relations. \n•    Explore the domestic political and economic forces that influence U.S. foreign policy decisions \n•    Discuss how social media is transforming the practice and formation of foreign policy. \n\nMembers of the 20-member delegation are traveling from a multitude of countries\, including Argentina\, Bangladesh\, Djibouti\, Estonia\, Fiji\, Finland\, France\, Japan\, Kyrgyz Republic\, Lebanon\, Republic of Korea\, Republic of Turkiye\, South Africa\, Taiwan\, Thailand\, and Tunisia. \n\nThe International Visitor Leadership Program (IVLP) is the U.S. Department of State’s premier professional exchange program. Through short-term visits to the United States\, current and emerging foreign leaders in a variety of fields experience this country firsthand and cultivate lasting relationships with their American counterparts. Professional meetings reflect the participants’ professional interests and support the foreign policy goals of the United States. Each year nearly 5\,000 International Visitors come to the U.S. on the International Visitor Leadership Program (IVLP). \n\nDELEGATE PARTICIPANT LIST \n  \nMs. Martina GUARNASCHELLI  (Argentina) \nSecretary of Embassy and Third Class Consul\, Ministry of Foreign Affairs \nMr. Tanzim ANWAR (Bangladesh)\nDiplomatic Correspondent\, Bangladesh Sangbad Sangstha\, National News Agency of Bangladesh \nMr. Mahdi OBSIEH BOUH (Djibouti)\nDirector of Bilateral Affairs\, Ministry of Foreign Affairs and International Cooperation \nMs. Helen NEIDER VEERME (Estonia)\nAdvisor on Strategic Border Management Cooperation\, Estonian Police and Border Guard Board \nMs. Telupe TEPAUKIE (Fiji)\nUN Desk Officer/Acting Senior Adviser-UN Division\, Government of Tuvalu \nMr. Tero Heikki Artturi SUONIEMI (Finland)\nForeign and Security Policy Advisor to Green Party\, Foreign and Security Policy Advisor to Green Party \nMs. Christina Rebecca OKELLO (France)\nBilingual reporter\, Radio France Internationale \nProf. Tomohiko SATAKE (Japan)\nAssociate Professor\, Department of International Politics\, Economics and Communication\, Aoyama Gakuin University \nMs. Tolkunai ERKINBEK KYZY (Kyrgyz Republic)\nAttaché/Desk Officer for U.S.A.\, Third Political Department\, Ministry of Foreign Affairs of the Kyrgyz Republic \nMs. Albina SUINALIEVA (Kyrgyz Republic) \nThird Secretary of Economic Diplomacy Department\, Ministry of Foreign Affairs of the Kyrgyz Republic \nMr. George EL JALLAD (Lebanon)\nHead of the Americas/UN Desk\, Lebanese Ministry of Foreign Affairs and Emigrants\, Beirut Lebanon \nMr. Gi Bum KIM (Republic of Korea)\nAssociate Research Fellow\, Korea Institute for Defense Analyses \nMs. Suheyla DEMIR (Republic of Turkiye)\nChief Editor\, World News Desk\, Haber Global TV \nMr. Hakki UYGUR (Republic of Turkiye)\nPresident\, Center for Iranian Studies \nMs. Tsioane MOTSAI (South Africa)\nInternational Relations Coordinator\, African National Congress(ANC) \nMr. Tebogo THOTHELA (South Africa)\nDirector: Parliamentary Counsellor to Gauteng Premier\, Gauteng Office of the Premier \nMr. Fei Fan LIN (Taiwan)\nBoard Member\, New Frontier Foundation \nMr. Yeh Chung LU (Taiwan)\nProfessor and Chair\, Department of Diplomacy\, National Chengchi University \nMr. Pheeradej KUMSAMOOT (Thailand) \nMember\, Bhumjaitai Party \nMr. Taha BOULAARES (Tunisia)\nHead of Department of Multilateral Cooperation at the Directorate General of the International Cooperation\, Ministry of Interior \n  \nLocation \nNorthern Kentucky Chamber Of Commerce \n300 Buttermilk Pike Suite 330 \nFt. Mitchell\, KY 41017 \nSt. Elizabeth Board Room \nEvent Schedule\n8:30am – 9am: Registration/Networking/Breakfast\n9am – 11:00am: Program \n\nPre-registration is required.
URL:https://globalcincinnati.org/event/foreign-policy-delegation-reception-and-information-exchange/
LOCATION:Northern Kentucky Chamber of Commerce\, 300 Buttermilk Pike #330\, Fort Mitchell\, KY\, 41099
CATEGORIES:Discussion,Diversity,Local
END:VEVENT
BEGIN:VEVENT
DTSTART;TZID=America/New_York:20220822T113000
DTEND;TZID=America/New_York:20220822T130000
DTSTAMP:20260425T000928
CREATED:20220722T175637Z
LAST-MODIFIED:20220722T175637Z
UID:25133-1661167800-1661173200@globalcincinnati.org
SUMMARY:Expanding Inclusion:   Why Antisemitism Must Be Incorporated into DEI Work
DESCRIPTION:
URL:https://globalcincinnati.org/event/expanding-inclusion-why-antisemitism-must-be-incorporated-into-dei-work/
LOCATION:Nancy and David Wolf Holocaust and Humanity Center
CATEGORIES:Discussion,Diversity,Local
END:VEVENT
BEGIN:VEVENT
DTSTART;VALUE=DATE:20220731
DTEND;VALUE=DATE:20220808
DTSTAMP:20260425T000928
CREATED:20220701T124120Z
LAST-MODIFIED:20220701T124120Z
UID:25098-1659225600-1659916799@globalcincinnati.org
SUMMARY:The 5th Annual Cincinnati Festival of Faiths
DESCRIPTION:
URL:https://globalcincinnati.org/event/the-5th-annual-cincinnati-festival-of-faiths/
LOCATION:Multiple
CATEGORIES:Conference,Discussion,Diversity,Networking
ORGANIZER;CN="Equasion":MAILTO:cincifestivaloffaiths@gmail.com
END:VEVENT
BEGIN:VEVENT
DTSTART;TZID=America/New_York:20220610T073000
DTEND;TZID=America/New_York:20220610T120000
DTSTAMP:20260425T000928
CREATED:20220516T193343Z
LAST-MODIFIED:20220516T193343Z
UID:25062-1654846200-1654862400@globalcincinnati.org
SUMMARY:IDEA Summit 2022
DESCRIPTION:The Northern Kentucky Chamber of Commerce (NKY Chamber) and St. Elizabeth Healthcare are partnering to host the first IDEA Summit – Building an Inclusive Community: The Business Case for Diversity\, Equity and Inclusion powered by Fifth Third Bank. The event will be held from 8 a.m. to Noon on Friday\, June 10\, at the St. Elizabeth Training and Education Center (3861 Olympic Blvd.\, Erlanger\, Ky.\, 41018) and will address removing barriers to employment\, effective talent attraction and retention strategies\, the importance of an inclusive workplace culture and building a plan for supplier diversity. \nTentative Event Schedule\n7:30am – 8am: Registration/Breakfast/Networking \n8am – 9am: Welcome and Keynote Speaker Stephanie A. Smith from Fifth Third \n9am – 10am: Panel Discussion – All hands on deck: Removing Barriers to Employment. Panel moderator Dr. Eddie Howard\, VP of Student Affairs at NKU. \nPanel: John Hawkins MPI Consulting\, Catrena Bowman-Thomas NKCAC\, Alecia Webb-Edgington Life Learning Center\, Paco Tello\, Pefetti Van Melle \n10am – 12pm: Break Out Sessions (Topics TBD) \n  \nCost to Attend \n\n\n\nMember Rate\n$55\n\n\nFuture Member Rate\n$70\n\n\nNKYP Pass Rate\n$50\n\n\n\nPre-registration is required. Click the “Register” button to reserve your seat!  The NKY Chamber has a 48-hour cancellation policy for all events.
URL:https://globalcincinnati.org/event/idea-summit-2022/
LOCATION:St. Elizabeth Training and Education Center
CATEGORIES:Conference,Discussion,Diversity,Local,Networking
END:VEVENT
BEGIN:VEVENT
DTSTART;TZID=America/New_York:20210925T110000
DTEND;TZID=America/New_York:20210925T150000
DTSTAMP:20260425T000928
CREATED:20210902T164339Z
LAST-MODIFIED:20210902T164533Z
UID:24210-1632567600-1632582000@globalcincinnati.org
SUMMARY:International Children’s Day
DESCRIPTION:The Cincinnati USA Sister City Association (CINUSCA) is delighted to partner with USA Balloonatics to celebrate Cincinnati’s first ever\, International Children’s Day. Celebrate the children of the world and the culture and heritage of our neighbors and friends from around the globe. Festivities will include a parade of flags\, food trucks\, cultural entertainment\, nature hikes with Michael George (Cincinnati Parks) and canoes on the lake (Camping and Education Foundation)\, Musical Storytime with Mr. Eric of Clifton Libary\, Make Your Own Sister City Flag Button and Explore More with These Library Books. \nCINUSCA is connected to nine cities around the world through the Sister City Program. They include Liuzhou\, China\, Gifu\, Japan\, Kharkiv\, Ukraine\, Munich\, Germany\, Harare\, Zimbabwe\, Nancy\, France\, New Taipei City\, Taiwan\, Mysore\, India\, and Amman\, Jordan. \nThis celebration is an opportunity to introduce our Sister Cities to the people of Cincinnati. Enjoy the family friendly festivities and learn more about our global connections right here at home. To learn more about the Cincinnati USA Sister City Association visit cincinnatisistercity.org \nFor more information about this event\, please contact Bob Herring (Robert.c.herring@gmail.com) or Rama Kasturi (rama.kasturi64@gmail.com). Registration is not required for this event.
URL:https://globalcincinnati.org/event/international-childrens-day/
LOCATION:Burnet Woods – Trailside Nature Center\, 3251 Brookline Dr.\, Cincinnati\, OH\, 45220
CATEGORIES:Diversity,Global Education,Local,Networking
ATTACH;FMTTYPE=image/png:https://globalcincinnati.org/wp-content/uploads/2021/09/Intl-Childrens-Day.png
END:VEVENT
BEGIN:VEVENT
DTSTART;TZID=America/New_York:20210923T190000
DTEND;TZID=America/New_York:20210923T203000
DTSTAMP:20260425T000928
CREATED:20210902T171424Z
LAST-MODIFIED:20210902T171440Z
UID:24219-1632423600-1632429000@globalcincinnati.org
SUMMARY:Distinguished Speakers: An Introduction to Blockchain\, Cryptocurrency and Decentralized Finance with Andreas Park
DESCRIPTION:Please register for this free program. After registering you will receive a confirmation email with the Zoom webinar login information. \nAbout the Program\n \nProfessor Andreas Park will provide a brief introduction to blockchain technology and cryptocurrencies\, providing an overview of some of the tools and apps that are available in the new world of decentralized finance. Park has recently been part of a research effort for the Bank of Canada on the design of a central-bank issued digital Loonie\, and he will provide an overview of how this development together with advances in blockchain technology drive broader changes in the financial industry internationally\, and discuss what changes we might expect over the next decade. He will discuss what cryptocurrencies might allow us to do and how they are being used (and misused) in the movement of wealth around the world.\n \nAbout the Speaker \nAndreas Park is a Professor of Finance at the University of Toronto in the Department of Management with a cross appointment to the Finance area at the U of T Rotman School of Business. He has  been a University of Toronto faculty member since 2003. His research covers empirical topics\, such as the market impact of maker-taker pricing\, dark orders\, and high frequency trading\, and theoretical topics\, such as herd behavior in financial markets and the impact of trading mechanisms. Andreas has served as Co-Director of the Master of Financial Economics program at University of Toronto\, and he teaches courses on Market Microstructure\, Trading\, Investments\, Asset Pricing\, and Corporate Finance. His current research focuses mostly on the impact of high frequency trading and recent market structure changes in Canadian markets. Andreas is currently a member of the Ontario Security Commission’s Market Structure Advisory Committee. He earned both his masters degree and doctorate from Cambridge University in England. \nAbout the Moderator \nDonald Cassell\, a member of the ICWA Board of Directors\, is a senior fellow at the Sagamore institute and director of the Africa program and Liberian initiatives there. He also oversaw the development of the Indiana-Africa Connections project\, a database of over 250 Hoosier organizations with ties to Africa. Additionally he serves as the host of Sagamore‘s fellows program. Previous to his role at Sagamore\, Mr. Cassell spent 20 years working as an architect in Indianapolis. He is a member of the American Institute of Architects (AIA) and Construction Specification Institute (CSI). A native of Liberia\, Mr. Cassell graduated from Wentworth Institute of Technology in Boston\, Massachusetts. Mr. Cassell also studied at Reformed Presbyterian Theological Seminary in Pittsburgh\, Pennsylvania\, where he received his master of divinity. \nThank you to our generous sponsor
URL:https://globalcincinnati.org/event/distinguished-speakers-an-introduction-to-blockchain-cryptocurrency-and-decentralized-finance-with-andreas-park/
LOCATION:Kentucky
CATEGORIES:Discussion,Diversity,Global Education,Virtual,Virtual Seminar
ATTACH;FMTTYPE=image/png:https://globalcincinnati.org/wp-content/uploads/2021/09/unnamed-1.png
ORGANIZER;CN="Indiana Council on World Affairs":MAILTO:info@indianaworld.org
END:VEVENT
BEGIN:VEVENT
DTSTART;TZID=America/New_York:20210910T180000
DTEND;TZID=America/New_York:20210910T220000
DTSTAMP:20260425T000928
CREATED:20210727T134639Z
LAST-MODIFIED:20210914T154817Z
UID:24018-1631296800-1631311200@globalcincinnati.org
SUMMARY:Cincinnati Rhythm
DESCRIPTION:We are excited to invite you to the first annual event for Cincinnati Compass. Come celebrate New Americans who contribute to a strong regional economy and a diverse\, vibrant community as we kick off regional celebrations of National Welcoming Week that runs from September 10th-19th. \nThe event will be held September 10th\, 6:00PM – 10:00PM at Waypoint Aviation’s airplane hangar. Local food with international flavor\, drinks\, and entertainment will be provided. \nEnjoy food from local Findlay Kitchen chefs with international flavors: \n\nAfroMeals\nYee Mama\nOlive Tree\nThe Arepa Place\nMashRoots\n\nHear music and watch performances from: \n\nDJ Garley\nIjo Ugo\nSon del Caribe\n\nAbout Cincinnati Compass: \nCincinnati Compass advances economic and cultural inclusion of immigrants and refugees to enhance the overall vibrancy and economic growth of the Cincinnati region. Cincinnati Compass is a collaborative project of the Cincinnati USA Regional Chamber\, City of Cincinnati\, and more than 65 community partners who believe that immigrants and refugees are key contributors to a strong regional economy and a diverse\, vibrant community. \nAs part of this work\, we advocate for social and economic inclusion; connect individuals and organizations to resources and to each other to build capacities and opportunities; and promote and celebrate the cultural and economic contributions of new Cincinnatians. \n**Please note the event will be open air with the main hangar entry open. We will adhere to CDC Guidelines and ask that guests do the same..
URL:https://globalcincinnati.org/event/cincinnati-compass-first-annual-event-to-kick-off-welcoming-week/
LOCATION:Waypoint Aviation\, 4765 Airport Rd\, Cincinnati\, OH\, 45226
CATEGORIES:Diversity,Local
END:VEVENT
BEGIN:VEVENT
DTSTART;TZID=America/New_York:20210728T183000
DTEND;TZID=America/New_York:20210728T193000
DTSTAMP:20260425T000928
CREATED:20210705T155452Z
LAST-MODIFIED:20210705T155452Z
UID:23938-1627497000-1627500600@globalcincinnati.org
SUMMARY:International Friendship Family Program Student Reception
DESCRIPTION:The International Friendship Family Program is designed to pair you with an international student at NKU to brighten their experience. Whether you’re an individual who can be a local friend or a host family who can provide food and shelter\, a willingness to learn about another culture and to share yours is all you need. \nWhen international students get here\, they often need assistance with crucial tasks such as airport pick-up\, opening a PNC bank account\, purchasing a cellphone SIM card\, electronic adapters\, or other household set-up items. You can also spend time with them like having picnics and showing them around town (take them to Newport on the Levee\, the Newport Aquarium\, or walk around the vibrant district near Hotel Covington). Bring them to local sporting events and visit local attractions. The sky is the limit! \nThe International Friendship Family Program is hosting a reception on July 28\, 2021 from 6:30 to 7:30 at NKU in the Student Union Ballroom for students to talk to locals and for you to learn more about this awesome program. No need to RSVP. Don’t be shy\, come on out! \nApply for the International Friendship Family Program here: \nhttps://airtable.com/shruzSTcFTmJKKBNF 
URL:https://globalcincinnati.org/event/international-friendship-family-program-student-reception/
LOCATION:NKU Student Union Ballroom\, 20 Kenton Dr.\, Highland Heights\, KY\, Highland Heights\, KY\, 41076\, United States
CATEGORIES:Diversity,Global Education,Local
END:VEVENT
BEGIN:VEVENT
DTSTART;VALUE=DATE:20210611
DTEND;VALUE=DATE:20210614
DTSTAMP:20260425T000928
CREATED:20210602T130722Z
LAST-MODIFIED:20210602T130722Z
UID:23840-1623369600-1623628799@globalcincinnati.org
SUMMARY:Cincinnati World Cinema - Women on the Edge
DESCRIPTION:Friday\, June 11 through Sunday\, June 13 at the Garfield\nAlso online in the CWC Virtual Cinema\nNINA WU  103 min\, Taiwan/Myanmar\, R\, in Mandarin with English subs.\nTHE COLUMNIST  85 min\, The Netherlands\, R\, in Dutch with English subs. \nWe’re proud to present two unusual international films offering the stories of two very different women pushed over the edge by toxic environments affecting not only their careers\, but their dignity\, sanity and safety. \nThe over-the-top treatment in THE COLUMNIST\, set in the realm of social media and publishing\, provides a subversively comedic take on a person who goes too far in pursuit of retribution. As its Cannes and NYT Critic’s Pick credentials suggest\, NINA WU is a more serious work\, a searing indictment of systemic exploitation in the film industry. \nThe underlying theme is exploitation and both films examine the ways these women try to understand and deal with their experiences as they become immersed in stressful situations. Both offer ample ground for post-film discussion. \nThe weekend screenings open with NINA WU\, Friday June 11 at 7 pm\, which repeats on Saturday June 12 at 4 pm. THE COLUMNIST screens Saturday June 12 at 7 pm and repeats on Sunday June 13 at 4 pm. Single tickets are $10 for all screenings\, with a discount $16 double-bill option on Saturday. Trailers\, details\, dates/times and tickets:\nTHE COLUMNIST       NINA WU \n\n\n\n\n\n\n\n\n\n\n\n\n\n\n\n\n\n\n\n ENCORE SCREENING – THE FALL\nJune Date TBA \nLast weekend’s screenings of THE FALL sold out and we’ve had requests for an additional showing. If you missed this terrific film\, or want to see it again\, we are looking to choose from June 18-19-20. Let us know the best dates for you:  Send us your date/time preferences.\n\n\n\n\n\n\n\n\n\n\n\n\n\n\n\n\n  IN THE CWC VIRTUAL CINEMA: \nThe Columnist\, opens May 28\, https://cincyworldcinema.org/the-columnist/.  85 min\, The Netherlands\, R\, in Dutch with English subs. \nNina Wu\, opens May 28\, https://cincyworldcinema.org/nina-wu/.  Festival de Cannes\, Official Selection Un Certain Regard. NYT Critic’s Pick. 103 min\, Taiwan/Myanmar\, R\, in Mandarin with English subs. \nAbout Endlessness\, https://cincyworldcinema.org/about-endlessness/.  Winner\, Silver Bear\, Venice; New York Times Critic’s Pick. 78 min\, Sweden/Norway/Germany\, NR\, in Swedish with English subs. \nThe Woman Who Loves Giraffes\, held over\, https://cincyworldcinema.org/the-woman-who-loves-giraffes/.\n83 min\, Canada/USA/South Africa\, Documentary\, NR\, in English.\n\n\n\n\n\n\n\n\n\n\n\n\n\n\n\n\n\n\n\n\n\n\n\n\n\n\n\n\n\n\n\n\n\n\n\n\n\n\n\n\n“How to watch” and tech info: Virtual Cinema FAQ.\n\n\n\n\n\n\n\n\n\n\n\n\n\n\n\n\n  \n \nThank you to everyone who attended the first five weekends at the reopened Garfield Theatre\, and welcome to the new virtual viewers who’ve joined the CWC film family. Double-thanks to all who thoughtfully added to the Tip Jar when ordering – it really helps! We will continue the hybrid approach with in-person screenings at the Garfield and online screenings via our Virtual Cinema. \nWith the Ohio vaccination rate at 39%\, CWC will not abolish safety measures just yet but will adjust as things improve. For June\, we have increased Garfield capacity from 25% to 50% using two-seat in-row distancing with seats available in every row\, staggered when possible. \nAs most ticket purchases are pairs sprinkled with singles\, actually capacity will likely be closer to 40%. We do request that in-person attendees have completed the vaccine process and also request the use of masks in common areas. While Ohio is jumping into high gear full-open\, we will continue to keep patron comfort level and safety as our top priority. \nThanks again & see you soon\,\nTim
URL:https://globalcincinnati.org/event/cincinnati-world-cinema-women-on-the-edge/
LOCATION:The Garfield Theatre\, 719 Race Street\, Cincinnati\, OH\, 45202\, United States
CATEGORIES:Diversity,Local
END:VEVENT
END:VCALENDAR