BEGIN:VCALENDAR
VERSION:2.0
PRODID:-//World Affairs Council of Cincinnati and Northern Kentucky - ECPv6.15.20//NONSGML v1.0//EN
CALSCALE:GREGORIAN
METHOD:PUBLISH
X-ORIGINAL-URL:https://globalcincinnati.org
X-WR-CALDESC:Events for World Affairs Council of Cincinnati and Northern Kentucky
REFRESH-INTERVAL;VALUE=DURATION:PT1H
X-Robots-Tag:noindex
X-PUBLISHED-TTL:PT1H
BEGIN:VTIMEZONE
TZID:America/New_York
BEGIN:DAYLIGHT
TZOFFSETFROM:-0500
TZOFFSETTO:-0400
TZNAME:EDT
DTSTART:20220313T070000
END:DAYLIGHT
BEGIN:STANDARD
TZOFFSETFROM:-0400
TZOFFSETTO:-0500
TZNAME:EST
DTSTART:20221106T060000
END:STANDARD
BEGIN:DAYLIGHT
TZOFFSETFROM:-0500
TZOFFSETTO:-0400
TZNAME:EDT
DTSTART:20230312T070000
END:DAYLIGHT
BEGIN:STANDARD
TZOFFSETFROM:-0400
TZOFFSETTO:-0500
TZNAME:EST
DTSTART:20231105T060000
END:STANDARD
BEGIN:DAYLIGHT
TZOFFSETFROM:-0500
TZOFFSETTO:-0400
TZNAME:EDT
DTSTART:20240310T070000
END:DAYLIGHT
BEGIN:STANDARD
TZOFFSETFROM:-0400
TZOFFSETTO:-0500
TZNAME:EST
DTSTART:20241103T060000
END:STANDARD
BEGIN:DAYLIGHT
TZOFFSETFROM:-0500
TZOFFSETTO:-0400
TZNAME:EDT
DTSTART:20250309T070000
END:DAYLIGHT
BEGIN:STANDARD
TZOFFSETFROM:-0400
TZOFFSETTO:-0500
TZNAME:EST
DTSTART:20251102T060000
END:STANDARD
BEGIN:DAYLIGHT
TZOFFSETFROM:-0500
TZOFFSETTO:-0400
TZNAME:EDT
DTSTART:20260308T070000
END:DAYLIGHT
BEGIN:STANDARD
TZOFFSETFROM:-0400
TZOFFSETTO:-0500
TZNAME:EST
DTSTART:20261101T060000
END:STANDARD
END:VTIMEZONE
BEGIN:VTIMEZONE
TZID:America/New_York
BEGIN:DAYLIGHT
TZOFFSETFROM:-0500
TZOFFSETTO:-0400
TZNAME:EDT
DTSTART:20200308T070000
END:DAYLIGHT
BEGIN:STANDARD
TZOFFSETFROM:-0400
TZOFFSETTO:-0500
TZNAME:EST
DTSTART:20201101T060000
END:STANDARD
BEGIN:DAYLIGHT
TZOFFSETFROM:-0500
TZOFFSETTO:-0400
TZNAME:EDT
DTSTART:20210314T070000
END:DAYLIGHT
BEGIN:STANDARD
TZOFFSETFROM:-0400
TZOFFSETTO:-0500
TZNAME:EST
DTSTART:20211107T060000
END:STANDARD
BEGIN:DAYLIGHT
TZOFFSETFROM:-0500
TZOFFSETTO:-0400
TZNAME:EDT
DTSTART:20220313T070000
END:DAYLIGHT
BEGIN:STANDARD
TZOFFSETFROM:-0400
TZOFFSETTO:-0500
TZNAME:EST
DTSTART:20221106T060000
END:STANDARD
BEGIN:DAYLIGHT
TZOFFSETFROM:-0500
TZOFFSETTO:-0400
TZNAME:EDT
DTSTART:20230312T070000
END:DAYLIGHT
BEGIN:STANDARD
TZOFFSETFROM:-0400
TZOFFSETTO:-0500
TZNAME:EST
DTSTART:20231105T060000
END:STANDARD
END:VTIMEZONE
BEGIN:VEVENT
DTSTART;TZID=America/New_York:20251209T080000
DTEND;TZID=America/New_York:20251209T133000
DTSTAMP:20260424T235037
CREATED:20251202T135825Z
LAST-MODIFIED:20251202T135825Z
UID:28230-1765267200-1765287000@globalcincinnati.org
SUMMARY:19th Annual International Education Summit
DESCRIPTION:Curious about how the world is changing and what it means for your future?\n\nDesigned for high school students and educators\, IES offers a day of hands-on workshops\, inspiring speakers\, and career-focused networking — all centered on how global events and local communities are more connected than ever.\nHosted by the World Affairs Council of Cincinnati and Northern Kentucky\, this annual summit helps students explore real-world issues\, develop practical skills\, and discover career opportunities in a wide range of fields.\n\nWhat you’ll experience:\n\nInteractive workshops led by students and community leaders.\nCommunity Fair + Speed Networking with local professionals.\nInsightful discussions on current international topics and future careers.\n\nWhether you’re planning your next steps or just want to understand the world around you better\, this event will give you the tools and confidence to move forward.\n\nLearn more here!
URL:https://globalcincinnati.org/event/19th-annual-international-education-summit/
LOCATION:Northern Kentucky University\, Nunn Dr\, Highland Heights\, KY\, 41099
CATEGORIES:Global Education,International Education Summit,Local
END:VEVENT
BEGIN:VEVENT
DTSTART;TZID=America/New_York:20251117T160000
DTEND;TZID=America/New_York:20251117T170000
DTSTAMP:20260424T235037
CREATED:20251104T194943Z
LAST-MODIFIED:20251104T194943Z
UID:28158-1763395200-1763398800@globalcincinnati.org
SUMMARY:Global Chat: Your AI Co-Pilot for Glocal Impact (Create and Use a Custom Bot in Under an Hour!)
DESCRIPTION:Are you ready to bring high-impact global education into your classroom without adding hours to your planning time?\n\nJoin us for an energetic\, hands-on session that introduces you to the future of teacher support: Your Custom AI Co-Pilot. \nThe World Affairs Council of Greater Cincinnati and Northern Kentucky is launching the Youth Leaders for Glocal Impact (YLGI) platform\, and we’ve built a dedicated AI chatbot powered by Google’s Gemini technology just for our educators. \nIn this 60-minute workshop\, you will: \n\nUnlock the Power of the YLGI Chatbot: Learn how to use this custom tool to instantly get answers on project deadlines\, budget templates\, and program rules\, so you can focus on mentoring\, not managing.\nGenerate Ideas on Demand: We’ll dive into practical prompts and use the bot to generate tangible ideas for connecting your current classroom topics to Global Themes and local community action. Walk away with ideas you can implement tomorrow\, such as:\n\n“How can my 9th-grade history class explore sustainable cities and communities using a Cincinnati-based current event?”\n“Give me three quick community engagement activities for a project focusing on access to clean water around the world.”\n\n\nBecome AI Literate: Gain essential skills in AI prompting and learn the responsible way to use these tools to enhance global literacy and project-based learning in your school.\n\nYour Takeaway: You will leave this session with a clear understanding of how to use this AI co-pilot as a permanent\, always-on planning assistant\, allowing you to lead your students to greater Glocal Impact with less effort! \nAbout Joshua Amstutz – Josh has taught for 15 years\, 14 of which have been for the Winton Woods City School District (WWHS). He is the current coordinator of the Academy of Global Studies at Winton Woods High School\, the Math Department Head at Winton Woods High School\, a certified New Tech Network trained teacher\, and a New Tech Network trainer for project based learning at Winton Woods High School. Josh graduated from Capital University with a degree in Integrated Mathematics and from the University of Cincinnati with a MAT graduate degree from the Department of Mathematics. \nIn addition to his many roles at WWHS\, Josh is part of the 2019-2020 Impact U cohort on improvement science through Cincinnati Children’s Hospital and Strive Partnership. He is a Fulbright Alum from the 2019-2020 cohort of the Fulbright for Global Classrooms program and a TOP alum from the 2025 cohort of the Transatlantic Outreach Program. He was selected as the 2022 AFS-USA Global Educator of the Year and is a current state finalist in Ohio for the 2025 Presidential Awards for Excellence in Mathematics and Science Teaching (PAEMST). He has also worked closely with the curriculum director and his school’s physics teacher to implement multiple co-taught math and science courses as well as College Credit Plus (CCP) math courses in his school district. He currently teaches a combined math and science course called Pre-Calculus Aligned Physics (PCAP) in addition to CCP Statistics and CCP Calculus.
URL:https://globalcincinnati.org/event/global-chat-your-ai-co-pilot-for-glocal-impact-create-and-use-a-custom-bot-in-under-an-hour/
LOCATION:KY
CATEGORIES:Global Education,International Education Summit,Virtual,Virtual Seminar
ATTACH;FMTTYPE=image/png:https://globalcincinnati.org/wp-content/uploads/2025/11/Nov-17th-Event-for-Registration-3.png
END:VEVENT
BEGIN:VEVENT
DTSTART;TZID=America/New_York:20240515T173000
DTEND;TZID=America/New_York:20240515T193000
DTSTAMP:20260424T235037
CREATED:20240425T181646Z
LAST-MODIFIED:20240429T212545Z
UID:26604-1715794200-1715801400@globalcincinnati.org
SUMMARY:Global Impact Celebration: In Honor of Rich Lauf Global Studies Grant
DESCRIPTION:To celebrate the recipients of the World Affairs Council’s inaugural Richard I. Lauf Global Studies Grant\, we cordially invite you to Somerhaus in OTR on Wednesday\, May 15th. \nThe winning grantees will be joining and sharing about their Global Impact\, Local Action projects from the five schools who won: Aiken High School\, Holmes High School\, St. Ursula Academy\, St. Xavier High School\, and Winton Woods High School. Food and drinks will be provided as well as a scheduled program. \nThe Global Studies Grant in Honor of Richard I. Lauf was a grant opportunity for students\, educators\, and school organizations alike to create or expand on a project that benefitted their school or community based on the United Nations Global Goals. All projects were implemented in Spring 2024. This is Global Impact\, Local Action. \nThe grant recipients were announced at the 17th Annual International Education Summit this past December\, 2023. \nThe following projects have since been implemented: \n– Aiken High School: Appreciation of Cultural Diversity Through Memoir Story Time \n– Holmes High School: Operation Compassion \n– St. Xavier High School: Global X-plorers Club: Celebrate Cincinnati \n– St. Ursula Academy: Recycling Initiatives at SUA \n– Winton Woods High School: Taking Action with International Coffee \nWe look forward to seeing you there as we hear from the students and educators about their projects in action! \n\n\n\nRegister here!
URL:https://globalcincinnati.org/event/global-impact-celebration-in-honor-of-rich-lauf-global-studies-grant/
LOCATION:Somerhaus Event Space\, 1415 Republic St\, Cincinnati\, OH\, 45202\, United States
CATEGORIES:International Education Summit,Local
ATTACH;FMTTYPE=image/png:https://globalcincinnati.org/wp-content/uploads/2024/04/invitation-global-grant-Facebook-Cover.png
END:VEVENT
BEGIN:VEVENT
DTSTART;TZID=America/New_York:20231207T080000
DTEND;TZID=America/New_York:20231207T140000
DTSTAMP:20260424T235037
CREATED:20231030T183749Z
LAST-MODIFIED:20231030T194630Z
UID:26135-1701936000-1701957600@globalcincinnati.org
SUMMARY:International Education Summit: Changing the World Together as Young People
DESCRIPTION:We are proud to announce the 17th Annual International Education Summit which will be held December 7th at Northern Kentucky University titled\, \n“Changing the World Together as Young People“. \nStudent? Teacher? Do you want to solve the world’s biggest issues?  \nThis is the field trip you WANT to attend.  \nNoel Ifeyani Alumona\, an international social development expert\, will keynote the event. He started the Shaping the Future Project which provides young people a platform to connect with experts\, mentors\, and resources to help solve the world’s biggest challenges. Learn how when he was just in high school how his passions brought him to be where he is today. You can do it too! \n“I used to think the summit was just a big lecture\, and now I think it was a great opportunity to network with people in careers that I am interested in\,” says Samuel\, attendee from 2022 International Education Summit. \nFor only $20 (lunch included)\, you can expand your future possibilities. \nScholarships are available! \nLearn more below or by clicking here. \n Still need convincing to attend? \n\nDiscover how you can learn skills to apply to real life scenarios through workshops by our keynote speaker and local organizations such as Groundwork Ohio River Valley\, Art Equals\, and LaSoupe.\nNetwork with some of the most fascinating\, international leaders at the Rich Lauf Career Fair in the community. You get to shake hands with them at this event!\nWant a head start in your education or career as a high school student. This is the event for you! Learn more by clicking here.\nApply for the inaugural Richard Lauf Global Studies Grant. You can win up to $1000! (Click here for more information).\n\nWe look forwarding to talking with you about attending this annual event for high school students! If you have any questions\, please email Melissa McDonald\, Director of Global Education\, at mmcdonald@cincyworldaffairs.org.
URL:https://globalcincinnati.org/event/international-education-summit-changing-the-world-together-as-young-people/
LOCATION:Northern Kentucky University\, Nunn Dr\, Highland Heights\, KY\, 41099
CATEGORIES:Global Education,International Education Summit
ORGANIZER;CN="The World Affairs Council of Cincinnati and Northern Kentucky":MAILTO:info@cincyworldaffairs.org
END:VEVENT
BEGIN:VEVENT
DTSTART;VALUE=DATE:20231127
DTEND;VALUE=DATE:20231128
DTSTAMP:20260424T235037
CREATED:20231030T214219Z
LAST-MODIFIED:20231030T215113Z
UID:26176-1701043200-1701129599@globalcincinnati.org
SUMMARY:Apply Now! Richard Lauf Global Studies Grant Due November 27th!
DESCRIPTION:You cannot teach a man anything. You can only help him discover it within himself \n-Galileo Galilei \n\n\n\n\n\n\nTo honor the legacy of Richard Lauf\, the World Affairs Council is proud to announce five grants of up to $1000 for students and educators. For 59 years\, Richard devoted his time and passion to world affairs\, now hoping to inspire the next generation of leaders. \nWho can apply? \nStudents\, teachers\, or student organizations. \nWhat do I have to do to apply? \nGLOCAL is the main focus for this project: Think Globally\, Act Locally. \nSupport\, expand\, or strengthen an initiative of existing projects/clubs or create new initiatives that benefit your school or community based on the United Nations Global Goals. Click here for more information and to apply! \nStep 1: Research ways to “take action” based on the UN Global Goals. Connect with a teacher to assist in your initiative. \nStep 2: Write out your project description that aligns with the “take action” in your research. \nFor example\, a student/teacher could receive up to $1000 to start or expand a student club. The club must meet at least two times a month to research local issues for their school or community. This will then be followed up by an initiative which will be reported back to the World Affairs Council. Funds could be used to get snacks for the meetings and for the selected project. This is only one example\, we encourage you to also be creative! \n\n\n\n\nHow much funding can you receive? \nFive grants of up to $1000 will be awarded! \nWhat is the deadline to apply? \nSubmissions are due November 27\, 2023. \nClick here for more information and to apply!
URL:https://globalcincinnati.org/event/apply-now-richard-lauf-global-studies-grant-due-november-27th/
LOCATION:KY
CATEGORIES:Global Education,International Education Summit,Social Justice,Virtual
ORGANIZER;CN="The World Affairs Council of Cincinnati and Northern Kentucky":MAILTO:info@cincyworldaffairs.org
END:VEVENT
BEGIN:VEVENT
DTSTART;TZID=America/New_York:20231106T160000
DTEND;TZID=America/New_York:20231106T170000
DTSTAMP:20260424T235037
CREATED:20231030T212438Z
LAST-MODIFIED:20231030T212438Z
UID:26172-1699286400-1699290000@globalcincinnati.org
SUMMARY:Virtual Information Session for the International Education Summit
DESCRIPTION:We invite local educators\, students\, and community partners to join us in exploring the UN Global Goals from a “glocal” perspective. This info session will cover the details of the Summit including our new Lauf Global Studies Grant. We will also discuss the outcomes from the summit including: \n\n\nTo expand students’ awareness and provide experiences for them to make an impact in their community through the Global Goals\nTo enhance students’ understanding of global education and career pathways\n\nRegister Here! \n 
URL:https://globalcincinnati.org/event/virtual-information-session-for-the-international-education-summit/
LOCATION:KY
CATEGORIES:Global Education,International Education Summit,Virtual
ORGANIZER;CN="The World Affairs Council of Cincinnati and Northern Kentucky":MAILTO:info@cincyworldaffairs.org
END:VEVENT
BEGIN:VEVENT
DTSTART;TZID=America/New_York:20221111T080000
DTEND;TZID=America/New_York:20221111T133000
DTSTAMP:20260424T235037
CREATED:20221018T163332Z
LAST-MODIFIED:20221019T104244Z
UID:25362-1668153600-1668173400@globalcincinnati.org
SUMMARY:International Education Summit
DESCRIPTION:The 16th Annual International Education Summit (IES) will return to in-person this year! We are excited to offer interactive informative workshops for students with sessions focused on Climate Action. This year’s Summit will provide numerous opportunities to engage with international and local educators\, community partners\, and business leaders\, etc. We look forward to welcoming you and your students to NKU! 
URL:https://globalcincinnati.org/event/international-education-summit/
LOCATION:NKU Student Union Ballroom\, 20 Kenton Dr.\, Highland Heights\, KY\, Highland Heights\, KY\, 41076\, United States
CATEGORIES:Conference,Global Education,International Education Summit
END:VEVENT
BEGIN:VEVENT
DTSTART;TZID=America/New_York:20211104T190000
DTEND;TZID=America/New_York:20211104T200000
DTSTAMP:20260424T235037
CREATED:20211004T124721Z
LAST-MODIFIED:20211007T131108Z
UID:24376-1636052400-1636056000@globalcincinnati.org
SUMMARY:After the Airlift: Examining the Afghan Refugee Crisis Post-Taliban Takeover
DESCRIPTION:7pm -After the Airlift: Examining the Afghan Refugee Crisis Post-Taliban Takeover\nCLICK HERE TO REGISTER\n  \nAbout the Program: In this conclusion to the International Education Summit\, Eric Schwartz of Refugees International will give a keynote address regarding the current state of the Afghan humanitarian and displacement crisis. As 2021 marks the 20th anniversary of the 9/11 attacks that led to the global War on Terror\, learn more about how the U.S. is examining its obligations to the region following the chaos of the Taliban takeover of the government. This session will address how governments\, the United Nations\, and various humanitarian organizations have worked—and should work—together to respond to the needs of Afghans displaced within and outside of Afghanistan. Participants will learn more about the challenges that face refugees resettling in the United States and how they can advocate to ensure the human rights of refugees and migrants around the world. Mr. Schwartz will also highlight the factors that brought about the humanitarian and evacuation crises as well as make predictions on what issues and trends the refugee and humanitarian communities will face in the coming years. \n \nAbout the Speaker: Eric Schwartz became President of Refugees International in June 2017. Eric has had a three-decade career focused on humanitarian and human rights issues. Between 2009 and 2011\, he served as U.S. Assistant Secretary of State for Population\, Refugees\, and Migration. As Assistant Secretary\, he was credited with strengthening the State Department’s humanitarian advocacy around the world\, initiating and implementing critical enhancements to the U.S. refugee resettlement program and raising the profile of global migration issues in U.S. foreign policy. He was the senior human rights and humanitarian official at the National Security Council during the Clinton administration\, managing humanitarian responses to crises in Asia\, Africa\, the Middle East\, and Europe. He also served as the UN Deputy Special Envoy for Tsunami Recovery after the 2004 Asian Tsunami; as Washington Director of Asia Watch (now the Asia Division of Human Rights Watch); and Staff Consultant to the House of Representatives Foreign Affairs Subcommittee on Asian and Pacific Affairs\, among other positions in the U.S. government\, at the UN and in the nonprofit sector. Just prior to arriving at Refugees International\, Eric served a six-year term as Dean of the Hubert H. Humphrey School of Public Affairs at the University of Minnesota. During much of that period\, he also served on the U.S. Commission on International Religious Freedom and\, ultimately\, as the Commission’s vice chair. He holds a law degree from New York University School of Law\, a Master of Public Affairs degree from the Princeton School of Public and International Affairs\, and a Bachelor of Arts degree with honors from the State University of New York at Binghamton.
URL:https://globalcincinnati.org/event/after-the-airlift-examining-the-afghan-refugee-crisis-post-taliban-takeover/
LOCATION:Virtual
CATEGORIES:Global Education,International Education Summit,Social Justice,Virtual,Virtual Seminar
ATTACH;FMTTYPE=image/png:https://globalcincinnati.org/wp-content/uploads/2021/10/Education-Resources-19.png
ORGANIZER;CN="The World Affairs Council of Cincinnati and Northern Kentucky":MAILTO:info@cincyworldaffairs.org
END:VEVENT
BEGIN:VEVENT
DTSTART;TZID=America/New_York:20211103T071000
DTEND;TZID=America/New_York:20211103T080000
DTSTAMP:20260424T235037
CREATED:20210930T134244Z
LAST-MODIFIED:20211005T145337Z
UID:24357-1635923400-1635926400@globalcincinnati.org
SUMMARY:Local Solutions to Global Challenges: Creating a Green Cincinnati
DESCRIPTION:7am – Local Solutions to Global Challenges: Creating a Green Cincinnati\nCLICK HERE TO REGISTER\nAbout the Program: In August\, the United Nations’ Intergovernmental Panel on Climate Change (IPCC) released an alarming report on the current status of the environment and the impact that it will have on humanity. Around the world\, youth have become outspoken advocates in demanding that governments\, businesses\, and nonprofit organizations make changes to ensure the sustainability of the planet. In this session\, you will be inspired to “think globally and act locally.” Speakers from the City of Cincinnati’s Office of Environment & Sustainability and other area nonprofits will discuss the Green Cincinnati Plan\, a bold vision to put Cincinnati on a path to 100% renewable energy and advance the sustainability\, equity\, and resilience of our city. Be inspired to advocate for climate issues affecting your own community and learn more about volunteer opportunities to assist in the work that local leaders are doing to create a more sustainable future.
URL:https://globalcincinnati.org/event/local-solutions-to-global-challenges-creating-a-green-cincinnati-2/
LOCATION:Virtual
CATEGORIES:Global Education,International Education Summit,Local,Social Justice,Virtual,Virtual Seminar
ATTACH;FMTTYPE=image/png:https://globalcincinnati.org/wp-content/uploads/2021/09/Education-Resources-3.png
ORGANIZER;CN="The World Affairs Council of Cincinnati and Northern Kentucky":MAILTO:info@cincyworldaffairs.org
END:VEVENT
BEGIN:VEVENT
DTSTART;TZID=America/New_York:20211021T160000
DTEND;TZID=America/New_York:20211021T170000
DTSTAMP:20260424T235037
CREATED:20210929T191609Z
LAST-MODIFIED:20210929T191609Z
UID:24349-1634832000-1634835600@globalcincinnati.org
SUMMARY:Food is Essential: Examining COVID's Impact on the Global Supply Chain and Food Insecurity
DESCRIPTION:4pm- Food is Essential: Examining COVID’s Impact on the Global Supply Chain and Food Insecurity\nCLICK HERE TO REGISTER\n \nAbout the Program: In this session\, members of area companies and nonprofit organizations will share the economic challenges they’ve faced in their industry as a result of the COVID-19 pandemic. Learn more about how supply and demand\, governmental policy\, and climate issues have affected the availability and prices of the food we eat. Speakers will discuss how COVID-related factors have put stress on global supply chains and how their organizations have pivoted in order to ensure the needs of their customers and community were still being met. Learn more about how you can be a conscious consumer and support local businesses during these challenging times.
URL:https://globalcincinnati.org/event/food-is-essential-examining-covids-impact-on-the-global-supply-chain-and-food-insecurity/
LOCATION:Virtual
CATEGORIES:Discussion,Global Education,International Education Summit,Social Justice,US Education,Virtual
ATTACH;FMTTYPE=image/png:https://globalcincinnati.org/wp-content/uploads/2021/09/Education-Resources-10.png
ORGANIZER;CN="The World Affairs Council of Cincinnati and Northern Kentucky":MAILTO:info@cincyworldaffairs.org
END:VEVENT
BEGIN:VEVENT
DTSTART;TZID=America/New_York:20210929T070000
DTEND;TZID=America/New_York:20210929T080000
DTSTAMP:20260424T235037
CREATED:20210929T193641Z
LAST-MODIFIED:20210929T193641Z
UID:24352-1632898800-1632902400@globalcincinnati.org
SUMMARY:Local Solutions to Global Challenges: Creating a Green Cincinnati
DESCRIPTION:7am – Local Solutions to Global Challenges: Creating a Green Cincinnati\nCLICK HERE TO REGISTER\nAbout the Program: In August\, the United Nations’ Intergovernmental Panel on Climate Change (IPCC) released an alarming report on the current status of the environment and the impact that it will have on humanity. Around the world\, youth have become outspoken advocates in demanding that governments\, businesses\, and nonprofit organizations make changes to ensure the sustainability of the planet. In this session\, you will be inspired to “think globally and act locally.” Speakers from the City of Cincinnati’s Office of Environment & Sustainability and other area nonprofits will discuss the Green Cincinnati Plan\, a bold vision to put Cincinnati on a path to 100% renewable energy and advance the sustainability\, equity\, and resilience of our city. Be inspired to advocate for climate issues affecting your own community and learn more about volunteer opportunities to assist in the work that local leaders are doing to create a more sustainable future.
URL:https://globalcincinnati.org/event/local-solutions-to-global-challenges-creating-a-green-cincinnati/
LOCATION:Virtual
CATEGORIES:Global Education,International Education Summit,US Education,Virtual,Virtual Seminar
ATTACH;FMTTYPE=image/png:https://globalcincinnati.org/wp-content/uploads/2021/09/Education-Resources-13.png
ORGANIZER;CN="The World Affairs Council of Cincinnati and Northern Kentucky":MAILTO:info@cincyworldaffairs.org
END:VEVENT
END:VCALENDAR