BEGIN:VCALENDAR
VERSION:2.0
PRODID:-//World Affairs Council of Cincinnati and Northern Kentucky - ECPv6.15.20//NONSGML v1.0//EN
CALSCALE:GREGORIAN
METHOD:PUBLISH
X-ORIGINAL-URL:https://globalcincinnati.org
X-WR-CALDESC:Events for World Affairs Council of Cincinnati and Northern Kentucky
REFRESH-INTERVAL;VALUE=DURATION:PT1H
X-Robots-Tag:noindex
X-PUBLISHED-TTL:PT1H
BEGIN:VTIMEZONE
TZID:America/New_York
BEGIN:DAYLIGHT
TZOFFSETFROM:-0500
TZOFFSETTO:-0400
TZNAME:EDT
DTSTART:20250309T070000
END:DAYLIGHT
BEGIN:STANDARD
TZOFFSETFROM:-0400
TZOFFSETTO:-0500
TZNAME:EST
DTSTART:20251102T060000
END:STANDARD
BEGIN:DAYLIGHT
TZOFFSETFROM:-0500
TZOFFSETTO:-0400
TZNAME:EDT
DTSTART:20260308T070000
END:DAYLIGHT
BEGIN:STANDARD
TZOFFSETFROM:-0400
TZOFFSETTO:-0500
TZNAME:EST
DTSTART:20261101T060000
END:STANDARD
BEGIN:DAYLIGHT
TZOFFSETFROM:-0500
TZOFFSETTO:-0400
TZNAME:EDT
DTSTART:20270314T070000
END:DAYLIGHT
BEGIN:STANDARD
TZOFFSETFROM:-0400
TZOFFSETTO:-0500
TZNAME:EST
DTSTART:20271107T060000
END:STANDARD
END:VTIMEZONE
BEGIN:VEVENT
DTSTART;TZID=America/New_York:20260319T113000
DTEND;TZID=America/New_York:20260319T130000
DTSTAMP:20260425T062033
CREATED:20260211T135956Z
LAST-MODIFIED:20260211T141029Z
UID:28354-1773919800-1773925200@globalcincinnati.org
SUMMARY:WAC Non-Profit Spotlight: Covington Business Council March Luncheon
DESCRIPTION:We are so excited to announce that World Affairs Council will be Covington Business Council’s Non-Profit Spotlight for their March Luncheon. Join us Thursday\, March 19 at Embassy Suites RiverCenter from 11:30AM-1:00PM where you will learn about Covington’s new City Hall AND more about the organization!  \nCovington is a city full of organizations we are lucky to partner with as well as a region we love to showcase to visiting international delegates. It is truly a bridge between the local and global community. We hope you can join us! \nBuy tickets today
URL:https://globalcincinnati.org/event/wac-non-profit-spotlight-covington-business-council-march-luncheon/
LOCATION:Embassy Suites RiverCenter\, 10 E Rivercenter Blvd\, Covington\, KY\, 41011\, United States
CATEGORIES:Local,Networking
ATTACH;FMTTYPE=image/jpeg:https://globalcincinnati.org/wp-content/uploads/2026/02/cov-biz-luncheon-1.jpg
END:VEVENT
BEGIN:VEVENT
DTSTART;TZID=America/New_York:20260417T180000
DTEND;TZID=America/New_York:20260417T220000
DTSTAMP:20260425T062033
CREATED:20260211T142438Z
LAST-MODIFIED:20260211T142530Z
UID:28372-1776448800-1776463200@globalcincinnati.org
SUMMARY:13th Annual One World Gala & Global Trivia Competition
DESCRIPTION:The World Affairs Council is excited to host you for our 13th Annual Gala\, our most popular annual fundraiser! Join us April 17 from 6:00 p.m. – 10:00 p.m. at a beautiful private club in Clifton for the One World Gala & Global Trivia Competition. \nGiving at any level matters! As our organization’s vital annual fundraiser\, we strive to connect our community with the full potential of embracing a truly global perspective and community building activity. The World Affairs Council is Greater Cincinnati’s focal point for international education\, interaction\, and connection. We help our region to compete in the global arena and prepare our young people for success through an appreciation of global fellowship and cultural diversity in the classroom and in the workplace. \nThe Gala promises to be the most exciting event of the century – and an evening of fun and global connections that showcases our beloved City’s global sparkle! The Global Trivia Game will be the highlight of the evening! The top teams will win valuable prizes from some of Cincinnati’s most popular restaurants and businesses. \nThere are single tickets available at two price points. If you sign up with less than 10 people\, you will be assigned a trivia team to play with and/or people will join your table for the evening. Your last day to purchase tickets is April 3\, 2026. \nLocation given upon ticket purchase.
URL:https://globalcincinnati.org/event/13th-annual-one-world-gala-global-trivia-competition/
CATEGORIES:Networking,One World Gala
ATTACH;FMTTYPE=image/png:https://globalcincinnati.org/wp-content/uploads/2026/02/One-World-Gala-1.png
END:VEVENT
BEGIN:VEVENT
DTSTART;TZID=America/New_York:20260608T170000
DTEND;TZID=America/New_York:20260608T190000
DTSTAMP:20260425T062033
CREATED:20260424T202359Z
LAST-MODIFIED:20260424T203538Z
UID:28424-1780938000-1780945200@globalcincinnati.org
SUMMARY:2026 Council Leadership Meeting Opening Reception
DESCRIPTION:Join the World Affairs Council on June 8th for the 2026 Council Leadership Meeting Opening Reception  5-7 p.m. at TQL Stadium.  \nThere\, Jeff Berding\, Co-CEO of FC Cincinnati\, will discuss making FCC a global brand. 
URL:https://globalcincinnati.org/event/2026-council-leadership-meeting-opening-reception/
LOCATION:TQL Stadium
CATEGORIES:Conference,Discussion,Local,Networking
ATTACH;FMTTYPE=image/png:https://globalcincinnati.org/wp-content/uploads/2026/04/CLM-2026-Promo-CardFinal2-1-1.pdf.png
END:VEVENT
END:VCALENDAR