BEGIN:VCALENDAR
VERSION:2.0
PRODID:-//World Affairs Council of Cincinnati and Northern Kentucky - ECPv6.15.20//NONSGML v1.0//EN
CALSCALE:GREGORIAN
METHOD:PUBLISH
X-WR-CALNAME:World Affairs Council of Cincinnati and Northern Kentucky
X-ORIGINAL-URL:https://globalcincinnati.org
X-WR-CALDESC:Events for World Affairs Council of Cincinnati and Northern Kentucky
REFRESH-INTERVAL;VALUE=DURATION:PT1H
X-Robots-Tag:noindex
X-PUBLISHED-TTL:PT1H
BEGIN:VTIMEZONE
TZID:America/New_York
BEGIN:DAYLIGHT
TZOFFSETFROM:-0500
TZOFFSETTO:-0400
TZNAME:EDT
DTSTART:20170312T070000
END:DAYLIGHT
BEGIN:STANDARD
TZOFFSETFROM:-0400
TZOFFSETTO:-0500
TZNAME:EST
DTSTART:20171105T060000
END:STANDARD
BEGIN:DAYLIGHT
TZOFFSETFROM:-0500
TZOFFSETTO:-0400
TZNAME:EDT
DTSTART:20180311T070000
END:DAYLIGHT
BEGIN:STANDARD
TZOFFSETFROM:-0400
TZOFFSETTO:-0500
TZNAME:EST
DTSTART:20181104T060000
END:STANDARD
BEGIN:DAYLIGHT
TZOFFSETFROM:-0500
TZOFFSETTO:-0400
TZNAME:EDT
DTSTART:20190310T070000
END:DAYLIGHT
BEGIN:STANDARD
TZOFFSETFROM:-0400
TZOFFSETTO:-0500
TZNAME:EST
DTSTART:20191103T060000
END:STANDARD
END:VTIMEZONE
BEGIN:VEVENT
DTSTART;TZID=America/New_York:20180218T123000
DTEND;TZID=America/New_York:20180218T143000
DTSTAMP:20260425T230414
CREATED:20180122T202936Z
LAST-MODIFIED:20180122T202936Z
UID:9101-1518957000-1518964200@globalcincinnati.org
SUMMARY:China and America: The New Geopolitical Equation
DESCRIPTION:In the last 15 years\, China has implemented a wide-ranging strategy of economic outreach and expansion of all its national capacities\, including military and diplomatic capacities. Where the United States has taken a step back from multilateral trade agreements and discarded the Trans-Pacific Partnership (TPP)\, China has made inroads through efforts like the Belt and Road Initiative and the Asian Infrastructure Investment Bank (AIIB). What are Beijing’s geopolitical objectives? What leadership and political conditions in each society underlie growing Sino-American tensions?  What policies might Washington adopt to address this circumstance?
URL:https://globalcincinnati.org/event/china-america-new-geopolitical-equation/
LOCATION:St. John’s Unitarian Universalist Church\, 320 Resor Avenue\, Cincinnati\, OH\, 45220
END:VEVENT
BEGIN:VEVENT
DTSTART;TZID=America/New_York:20180216T133000
DTEND;TZID=America/New_York:20180216T163000
DTSTAMP:20260425T230414
CREATED:20180123T170704Z
LAST-MODIFIED:20180123T170704Z
UID:9157-1518787800-1518798600@globalcincinnati.org
SUMMARY:5th Annual Japan Update Symposium
DESCRIPTION:Keynote address\, panel discussion\, and cocktail reception featuring appetizers prepared by Mei Japanese Restaurant. \nLearn more about the role of Japanese technology in Kao Corporation’s revitalization of the Jergens skincare brand\, and hear the exciting story of Honda and GE’s recent joint venture in the aerospace industry.    \nKeynote Address by Takashi Hatchoji\, Board Member\, Nitto DenkoCorporation\, who will compare case studies of two large Japanese manufacturing companies and share personal insights drawn from 40+ years with Hitachi\, Ltd.
URL:https://globalcincinnati.org/event/5th-annual-japan-update-symposium/
LOCATION:Cincinnati USA Regional Chamber\, 3 East Fourth St\, Cincinnati\, OH\, 45202
END:VEVENT
BEGIN:VEVENT
DTSTART;TZID=America/New_York:20180213T173000
DTEND;TZID=America/New_York:20180213T210000
DTSTAMP:20260425T230414
CREATED:20180122T200824Z
LAST-MODIFIED:20180122T200825Z
UID:9068-1518543000-1518555600@globalcincinnati.org
SUMMARY:Iran versus Saudi Arabia: An evening with Ambassador Kenton Keith
DESCRIPTION:
URL:https://globalcincinnati.org/event/iran-versus-saudi-arabia-evening-ambassador-kenton-keith/
ATTACH;FMTTYPE=image/png:https://globalcincinnati.org/wp-content/uploads/2018/01/Kenton-Keith-Event.png
END:VEVENT
BEGIN:VEVENT
DTSTART;TZID=America/New_York:20180212T193000
DTEND;TZID=America/New_York:20180212T210000
DTSTAMP:20260425T230414
CREATED:20180123T165715Z
LAST-MODIFIED:20180123T165715Z
UID:9146-1518463800-1518469200@globalcincinnati.org
SUMMARY:Confronting Rising Anti-Semitism in Europe
DESCRIPTION:As the Chair of the Parliamentary Committee Against Antisemitism\, MP Mann will speak about his work to combat anti-Semitism in the UK and Europe\, including anti-Semitism in sports\, on university campuses\, and through social media. \n 
URL:https://globalcincinnati.org/event/confronting-rising-anti-semitism-europe/
LOCATION:Rockdale Temple\, 8501 Ridge Road\, Cincinnati\, OH\, 45236
END:VEVENT
BEGIN:VEVENT
DTSTART;TZID=America/New_York:20180212T190000
DTEND;TZID=America/New_York:20180212T210000
DTSTAMP:20260425T230414
CREATED:20180122T205247Z
LAST-MODIFIED:20180122T205247Z
UID:9124-1518462000-1518469200@globalcincinnati.org
SUMMARY:Bye Bye Germany
DESCRIPTION:Making an engaging\, humorous film about Holocaust survivors living in migrant limbo is a challenge and Bye Bye Germanysuccessfully hits the mark. The Jews remaining in post-WWII Germany have been largely overlooked onscreen\, giving this dramedy a unique and rarely seen narrative freshness and historical importance. \nSet in 1946 Frankfort\, director Sam Garbaski pulls us into the lives of David Bermann and friends\, as they hatch a plan to reach America. Based on real characters\, Bye Bye Germany  offers a multi-threaded plot and major twist at the end\, rewarding the viewer with an entertaining and ultimately uplifting experience.
URL:https://globalcincinnati.org/event/bye-bye-germany/
LOCATION:Kenwood Theatre\, 7815 Kenwood Rd\, Cincinnati\, OH\, 45236
END:VEVENT
BEGIN:VEVENT
DTSTART;TZID=America/New_York:20180211T123000
DTEND;TZID=America/New_York:20180211T143000
DTSTAMP:20260425T230414
CREATED:20180122T202836Z
LAST-MODIFIED:20180122T202836Z
UID:9099-1518352200-1518359400@globalcincinnati.org
SUMMARY:Russia'a Foreign Policy
DESCRIPTION:Under President Vladimir Putin\, Russia is projecting an autocratic model of governance abroad and working to undermine the influence of liberal democracies\, namely along Russia’s historical borderlands. Russia caused an international uproar in 2016\, when it interfered in the U.S. presidential contest. But Putin’s foreign policy toolkit includes other instruments\, from alliances with autocrats to proxy wars with the U.S. in Georgia\, Ukraine and Syria. How does Putin conceive of national interests\, and why do Russian citizens support him? How should the United States respond to Putin’s foreign policy ambitions?
URL:https://globalcincinnati.org/event/russiaa-foreign-policy/
LOCATION:St. John’s Unitarian Universalist Church\, 320 Resor Avenue\, Cincinnati\, OH\, 45220
END:VEVENT
BEGIN:VEVENT
DTSTART;TZID=America/New_York:20180210T170000
DTEND;TZID=America/New_York:20180210T210000
DTSTAMP:20260425T230414
CREATED:20180123T165351Z
LAST-MODIFIED:20180123T165351Z
UID:9142-1518282000-1518296400@globalcincinnati.org
SUMMARY:Lunar New Year Gala and Event
DESCRIPTION:The Greater Cincinnati Chinese Chamber of Commerce holds this major event to welcome the coming of the Lunar New Year. It’s a wonderful opportunity to observe one of the most important holidays in the Asian culture. We celebrate along with our chamber members and representatives from all over the Greater Cincinnati business community. \n\nWorld class performances & entertaining program\nSpecially selected and prepared Asian fare\nNetworking opportunities with many US & Asian connections\nRaffle and Silent Auction showcasing unique\, traditional items
URL:https://globalcincinnati.org/event/lunar-new-year-gala-event/
LOCATION:Ramada Plaza Cincinnati Sharonville\, 11320 Chester Rd\, Cincinnati\, OH\, 45246
END:VEVENT
BEGIN:VEVENT
DTSTART;TZID=America/New_York:20180204T123000
DTEND;TZID=America/New_York:20180204T143000
DTSTAMP:20260425T230414
CREATED:20180122T202737Z
LAST-MODIFIED:20180122T202737Z
UID:9095-1517747400-1517754600@globalcincinnati.org
SUMMARY:The Waning of Pax Americana
DESCRIPTION:During the first months of Donald Trump’s presidency\, the U.S. began a historic shift away from Pax Americana\, the liberal international order that was established in the wake of World War II. Since 1945\, Pax Americana has promised peaceful international relations and an open economy\, buttressed by U.S. military power. In championing “America First” isolationism and protectionism\, President Trump has shifted the political mood toward selective U.S. engagement\, where foreign commitments are limited to areas of vital U.S. interest and economic nationalism is the order of the day. Geopolitical allies and challengers alike are paying close attention.
URL:https://globalcincinnati.org/event/waning-pax-americana/
LOCATION:St. John’s Unitarian Universalist Church\, 320 Resor Avenue\, Cincinnati\, OH\, 45220
END:VEVENT
BEGIN:VEVENT
DTSTART;TZID=America/New_York:20180203T190000
DTEND;TZID=America/New_York:20180203T210000
DTSTAMP:20260425T230414
CREATED:20180123T164956Z
LAST-MODIFIED:20180123T164956Z
UID:9137-1517684400-1517691600@globalcincinnati.org
SUMMARY:2018 Chinese New Year Concert
DESCRIPTION:Featuring the themed music of Hollywood’s martial arts action comedy\, Kung Fu Panda\, an American computer-animated film produced by Dreamworks Animation. This exquisite piece will be presented in multimedia in conjunction with the versatile multi-instrumentalist Mr. Hong Wang\, the Guanzi virtuoso Mr. Jian Bao\, and our long-term partner\, the CCM Philharmonia orchestra directed by Maestro Mark Gibson.
URL:https://globalcincinnati.org/event/2018-chinese-new-year-concert-2/
LOCATION:University of Cincinnati\, Corbett Auditorium\, College of Conservatory of Music (CCM)\, 290 CCM Blvd\, Cincinnati\, OH\, 45219
ORGANIZER;CN="Greater Cincinnati Chinese Music Society":MAILTO:info@cincinnatichinesemusicsociety.org
END:VEVENT
BEGIN:VEVENT
DTSTART;TZID=America/New_York:20180203T160000
DTEND;TZID=America/New_York:20180203T200000
DTSTAMP:20260425T230414
CREATED:20180122T191331Z
LAST-MODIFIED:20180122T191331Z
UID:9032-1517673600-1517688000@globalcincinnati.org
SUMMARY:74th Annual Meeting of the Salesian Guild
DESCRIPTION:74th Annual Meeting of the Salesian Guild takes place at St. Francis Xavier Church in downtown Cincinnati. The keynote speaker will be Sr. Helen Prejean\, CSJ\, well-known advocate\, spiritual advisor and best-selling author of Dead Man Walking: An Eyewitness Account of the Death Penalty. She is currently working on her third book\, River of Fire: My Spiritual Journey. \nThe gathering includes Vigil Mass at 4 pm at St. Francis Xavier; Reception at the parish center at 5 pm; Welcome and Dinner at 5:30 pm; Update on media law at 6:30 pm; Presentation of the Distinguished Communicator of the Year Award at 6:45 pm and the keynote speaker at 7 pm. \nTo keep up with late-breaking developments be sure and “like” the Facebook page at www.facebook.com/SalesianGuild. \nNominations for the award are due October 31\, 2017. \nQuestions\, contact Dan Andriacco at the Department of Communication & Mission Promotion\, Archdiocese of Cincinnati\, (513) 421-3131.
URL:https://globalcincinnati.org/event/74th-annual-meeting-salesian-guild/
END:VEVENT
BEGIN:VEVENT
DTSTART;TZID=America/New_York:20180202T083000
DTEND;TZID=America/New_York:20180202T170000
DTSTAMP:20260425T230414
CREATED:20180122T190700Z
LAST-MODIFIED:20180122T190700Z
UID:9026-1517560200-1517590800@globalcincinnati.org
SUMMARY:End Slavery Cincinnati's 2018 Anti-Human Trafficking Conference
DESCRIPTION:End Slavery Cincinnati’s 2018 Anti-Human Trafficking Conference is open to the public and runs from 8:30 am – 5 pm at the American Red Cross\, 2111 Dana Ave.\, Cincinnati\, OH 45207. \nThis year there will be 12 presentations\, a welcome address\, and keynote address. \nThe Conference will include workshops on: Outreach; Healthcare for Survivors; Legal Assistance for Survivors; Law Enforcement Case Studies; Prevention Education and more! \nCost: Student with ID = $35; Pre-registration = $55; Same day registration = $70. \nOnline Registration will close 9 an\, January 29\, 2018. \nRegister Online here. \nThis event is brought to you by End Slavery Cincinnati in partnership with The Salvation Army and the American Red Cross.
URL:https://globalcincinnati.org/event/endslaverycincinnatis2018antihumantraffickingconference/
LOCATION:American Red Cross\, 2111 Dana Ave\, Cincinnati\, OH\, 45207
END:VEVENT
BEGIN:VEVENT
DTSTART;TZID=America/New_York:20180130T180000
DTEND;TZID=America/New_York:20180130T200000
DTSTAMP:20260425T230414
CREATED:20180123T170302Z
LAST-MODIFIED:20180123T170302Z
UID:9153-1517335200-1517342400@globalcincinnati.org
SUMMARY:Hispanic Chamber Cincinnati USA 2017 Results
DESCRIPTION:Come to the first and the most diverse networking meeting of the year!\n\nR.S.V.P. is not required\, but we encourage you to register online.\n\nThis event is FREE to members and $10 for non-members
URL:https://globalcincinnati.org/event/hispanic-chamber-cincinnati-usa-2017-results/
LOCATION:Rookwood Commons Tower\, 3805 Edwards Rd\, Cincinnati\, OH\, 45209
END:VEVENT
BEGIN:VEVENT
DTSTART;TZID=America/New_York:20180128T160000
DTEND;TZID=America/New_York:20180128T170000
DTSTAMP:20260425T230414
CREATED:20180122T203950Z
LAST-MODIFIED:20180122T203950Z
UID:9113-1517155200-1517158800@globalcincinnati.org
SUMMARY:International Holocaust Remembrance Day
DESCRIPTION:
URL:https://globalcincinnati.org/event/international-holocaust-remembrance-day/
LOCATION:Hebrew Union College Jewish Institue of Religion S.H. and Helen R. Scheuer Chapel\, 3101 Clifton Avenue\, Cincinnati\, OH
ATTACH;FMTTYPE=image/jpeg:https://globalcincinnati.org/wp-content/uploads/2018/01/image003.jpg
END:VEVENT
BEGIN:VEVENT
DTSTART;TZID=America/New_York:20180127T193000
DTEND;TZID=America/New_York:20180127T210000
DTSTAMP:20260425T230414
CREATED:20180122T205026Z
LAST-MODIFIED:20180122T205026Z
UID:9118-1517081400-1517086800@globalcincinnati.org
SUMMARY:Brent and Sam Green | Live Cinema
DESCRIPTION:“The whole point of this kind of cinema is that this is a live experience that will never happen again—it’s a celebration of the moment and the ephemeral and being present.” – Sam Green  \nOscar-nominated filmmaker Sam Green and filmmaker/animator Brent Green\, while not related\, are both known for their singular performances combining cinema\, musical accompaniment\, and live narration. Live Cinema is a rare collaborative program\, combining the energy and immediacy of a rock show with the immersive storytelling magic of cinema\, in which the filmmakers present a prime selection of their numerous short works. Within these shorts\, Brent will tell stories about his family\, growing up in rural Pennsylvania\, and the woman who sewed a spacesuit for the first dog sent into space. Sam will share tales about Louis Armstrong\, the fog in San Francisco\, and the last person listed in the San Francisco phone book. Alternating between their films\, live foley accompaniment will come courtesy of musicians Brendan Canty (Fugazi)\, James Canty (Nation of Ulysses)\, Becky Foon (Thee Silver Mt. Zion)\, and Kate Ryan\, providing an animated soundtrack to these short cinematic gems. \n“The effect is… Koyaanisqatsi being filtered through an episode of This American Life” – The New York Times
URL:https://globalcincinnati.org/event/brent-sam-green-live-cinema/
ATTACH;FMTTYPE=image/png:https://globalcincinnati.org/wp-content/uploads/2018/01/Cat.png
END:VEVENT
BEGIN:VEVENT
DTSTART;TZID=America/New_York:20180127T090000
DTEND;TZID=America/New_York:20180127T123000
DTSTAMP:20260425T230414
CREATED:20171215T192820Z
LAST-MODIFIED:20180122T175535Z
UID:8763-1517043600-1517056200@globalcincinnati.org
SUMMARY:Calling all High Schools - Sign up for Academic WorldQuest Competition
DESCRIPTION:Click here for the Study Guide and Contact Arnela to register. \nThe Academic WorldQuest is a program of the World Affairs Council of America (WACA). AWQ is an opportunity for high school students to compete in a local trivia competition. The winning team may even have a chance to take their skills to Washington D.C. to compete with high school students from all over the U.S.
URL:https://globalcincinnati.org/event/calling-high-schools-sign-academic-worldquest-competition/
LOCATION:Princeton High School\, 100 Viking Way\, Cincinnati\, OH\, 45246
ORGANIZER;CN="The World Affairs Council of Cincinnati and Northern Kentucky":MAILTO:info@cincyworldaffairs.org
END:VEVENT
BEGIN:VEVENT
DTSTART;TZID=America/New_York:20180126T150000
DTEND;TZID=America/New_York:20180126T170000
DTSTAMP:20260425T230414
CREATED:20180123T170041Z
LAST-MODIFIED:20180123T170041Z
UID:9150-1516978800-1516986000@globalcincinnati.org
SUMMARY:Refugee Connect Meeting
DESCRIPTION:RSVP to Cynthia Cummins at cummins@xavier.edu
URL:https://globalcincinnati.org/event/refugee-connect-meeting/
LOCATION:Schiff Conference Center\, Cintas Center at Xavier University\, 1624 Herald Avenue\, Cincinnati\, OH\, 45207
END:VEVENT
BEGIN:VEVENT
DTSTART;TZID=America/New_York:20180126T120000
DTEND;TZID=America/New_York:20180126T130000
DTSTAMP:20260425T230414
CREATED:20180118T194126Z
LAST-MODIFIED:20180118T195953Z
UID:8988-1516968000-1516971600@globalcincinnati.org
SUMMARY:US Embassy Webinar - Brazilian Defense Legislation & Market
DESCRIPTION:Brazil has the largest defense budget in Latin America and Brazil’s Ministry of Defense and Armed Forces continue to pursue an ambitious portfolio of strategic military modernization programs valued around $115 billion. Join this webinar to hear from expert speakers from the Brazilian Ministry of Defense and industry representatives on key issues including an overview of the Brazilian defense legislation\, market\, and partnering strategies.
URL:https://globalcincinnati.org/event/us-embassy-webinar-brazilian-defense-legislation-market/
END:VEVENT
BEGIN:VEVENT
DTSTART;TZID=America/New_York:20180124T190000
DTEND;TZID=America/New_York:20180124T210000
DTSTAMP:20260425T230414
CREATED:20180122T185020Z
LAST-MODIFIED:20180122T185317Z
UID:9023-1516820400-1516827600@globalcincinnati.org
SUMMARY:Religious Liberty at a Crossroads
DESCRIPTION:Religious Liberty at a Crossroads\, organized by the Institute for Religious Liberty of Thomas More College\, will take place at 7 pm at the College’s Steigerwald Hall\, Saints Center\, (Thomas More Parkway) in Crestview Hills\, KY. The keynote speaker is Kevin C. Walsh\, J.D.\, professor at the University of Richmond School of Law who will cover a variety of topics and focus on recent Religious Liberty legalese. Find out more at (859) 341-5800.
URL:https://globalcincinnati.org/event/religious-liberty-crossroads/
LOCATION:Thomas More College\, 333 Thomas More Pkwy\, Crestview\, KY\, 41017
END:VEVENT
BEGIN:VEVENT
DTSTART;TZID=America/New_York:20180124T180000
DTEND;TZID=America/New_York:20180124T200000
DTSTAMP:20260425T230414
CREATED:20180122T195335Z
LAST-MODIFIED:20180122T195335Z
UID:9064-1516816800-1516824000@globalcincinnati.org
SUMMARY:Sunset Salons: Cultural Cuisines
DESCRIPTION:Sunset Salons is a vibrant conversation series through which we connect local experts on a topic of cultural relevance with community members interested in participating in an engaging discussion.  This month’s event will feature 4 – 6 local restaurants serving culturally diverse cuisines for a conversation about food\, culinary traditions\, and their influence on our city.
URL:https://globalcincinnati.org/event/sunset-salons-cultural-cuisines/
LOCATION:Clifton Cultural Arts Center\, 3711 Clifton Avenue\, Cincinnati\, OH
END:VEVENT
BEGIN:VEVENT
DTSTART;TZID=America/New_York:20180122T190000
DTEND;TZID=America/New_York:20180122T210000
DTSTAMP:20260425T230414
CREATED:20180122T170610Z
LAST-MODIFIED:20180122T170610Z
UID:8990-1516647600-1516654800@globalcincinnati.org
SUMMARY:Giant footsteps: The future of the Asian elephants in human care at the Cincinnati Zoo
DESCRIPTION:The Cincinnati Zoo’s\, Barrows Conservative Lecture Series \nGerry Creighton has worked in Dublin Zoo since 1983\, starting as a trainee keeper\, before becoming a full-time zookeeper in 1986. He subsequently worked as Team Leader responsible for large apes\, carnivores\, and elephants for nearly ten years before becoming Zoo Operations Manager for animals and grounds in 2009. Gerry also holds an advisory role acting as elephant consultant for many international zoos. Gerry’s career has spanned several decades of exciting development\, during which time Dublin Zoo has transformed from its Victorian beginnings in 1831 into a modern\, vital and progressive European center for conservation\, education and animal husbandry.
URL:https://globalcincinnati.org/event/giant-footsteps-future-asian-elephants-human-care/
LOCATION:Cincinnati Zoo and Botanical Garden\, 3400 Vine St\, Cincinnati\, Ohio\, 45220
ATTACH;FMTTYPE=image/png:https://globalcincinnati.org/wp-content/uploads/2018/01/Capture.png
END:VEVENT
BEGIN:VEVENT
DTSTART;TZID=America/New_York:20180122T090000
DTEND;TZID=America/New_York:20180122T150000
DTSTAMP:20260425T230414
CREATED:20180122T192011Z
LAST-MODIFIED:20180122T192011Z
UID:9040-1516611600-1516633200@globalcincinnati.org
SUMMARY:A Day of Training in Nonviolence
DESCRIPTION:A Day of Training in Nonviolence is set from 9 am – 3 pm at St. Anne Province Center in Melbourne\, KY 41059\, just across the river from Cincinnati. The Inter-community Justice & Peace Center is partnering with the Sisters of Divine Providence to offer this day of training about nonviolence. Topics covered include the principles of nonviolence\, nonviolent communication and learning about nonviolent direct action. Suggested donation is $20 but is not required. Lunch is provided. RSVP to Andrea at andrea@ijpccincinnati.org.
URL:https://globalcincinnati.org/event/day-training-nonviolence/
LOCATION:St. Anne Province Center\, Melbourne\, KY\, 41059
END:VEVENT
BEGIN:VEVENT
DTSTART;VALUE=DATE:20180111
DTEND;VALUE=DATE:20180112
DTSTAMP:20260425T230414
CREATED:20171215T190936Z
LAST-MODIFIED:20171218T210816Z
UID:8753-1515628800-1515715199@globalcincinnati.org
SUMMARY:World Affairs Council Annual Meeting
DESCRIPTION:Click here to register for FREE\nJoin us in this free event as we celebrate 2017 and learn what 2018 has in store for the World Affairs Council. We will be reviewing the 2017 achievements\, conducting board member renewals\, and revealing 2018 goals and initiatives. Discover how your support has moved the Council forward in the past year.
URL:https://globalcincinnati.org/event/world-affairs-council-annual-meeting/
END:VEVENT
END:VCALENDAR