BEGIN:VCALENDAR
VERSION:2.0
PRODID:-//World Affairs Council of Cincinnati and Northern Kentucky - ECPv6.15.20//NONSGML v1.0//EN
CALSCALE:GREGORIAN
METHOD:PUBLISH
X-ORIGINAL-URL:https://globalcincinnati.org
X-WR-CALDESC:Events for World Affairs Council of Cincinnati and Northern Kentucky
REFRESH-INTERVAL;VALUE=DURATION:PT1H
X-Robots-Tag:noindex
X-PUBLISHED-TTL:PT1H
BEGIN:VTIMEZONE
TZID:America/New_York
BEGIN:DAYLIGHT
TZOFFSETFROM:-0500
TZOFFSETTO:-0400
TZNAME:EDT
DTSTART:20190310T070000
END:DAYLIGHT
BEGIN:STANDARD
TZOFFSETFROM:-0400
TZOFFSETTO:-0500
TZNAME:EST
DTSTART:20191103T060000
END:STANDARD
BEGIN:DAYLIGHT
TZOFFSETFROM:-0500
TZOFFSETTO:-0400
TZNAME:EDT
DTSTART:20200308T070000
END:DAYLIGHT
BEGIN:STANDARD
TZOFFSETFROM:-0400
TZOFFSETTO:-0500
TZNAME:EST
DTSTART:20201101T060000
END:STANDARD
BEGIN:DAYLIGHT
TZOFFSETFROM:-0500
TZOFFSETTO:-0400
TZNAME:EDT
DTSTART:20210314T070000
END:DAYLIGHT
BEGIN:STANDARD
TZOFFSETFROM:-0400
TZOFFSETTO:-0500
TZNAME:EST
DTSTART:20211107T060000
END:STANDARD
END:VTIMEZONE
BEGIN:VEVENT
DTSTART;VALUE=DATE:20200502
DTEND;VALUE=DATE:20200504
DTSTAMP:20260424T173742
CREATED:20200225T202707Z
LAST-MODIFIED:20200225T202707Z
UID:21854-1588377600-1588550399@globalcincinnati.org
SUMMARY:17th CINCY-CINCO LATINO FESTIVAL
DESCRIPTION:Cincy-Cinco Latino Festival 2020 on ​Fountain Square! \nEnjoy the Best Latin Music\, Dance & Food \nSaturday\, May 2nd from 11am – 11pm\nSunday\, May 3rd\, from 11am – 6pmThe sounds of Latin America will fill the air at Cincy-Cinco. \nPlease bring your family\, friends and neighbors. This is the twelve annual Cincy-Cinco Latino festival and we would like you to come\, and remember is FREE to the public. \nThe Cincy-Cinco Latino Festival is a “charity” festival and all net proceeds are distributed among Tri-State organizations that support our Hispanic population.
URL:https://globalcincinnati.org/event/17th-cincy-cinco-latino-festival/
END:VEVENT
BEGIN:VEVENT
DTSTART;TZID=America/New_York:20200514T140000
DTEND;TZID=America/New_York:20200514T143000
DTSTAMP:20260424T173742
CREATED:20200326T131419Z
LAST-MODIFIED:20200326T131419Z
UID:21897-1589464800-1589466600@globalcincinnati.org
SUMMARY:Climate Change | Cover to Cover Webinar
DESCRIPTION:COVER TO COVER\nFeaturing Michael Klare on May 14\, 2020 \nRegister now for WACA’s Cover to Cover conference call on Thursday\, May 14\, at 2:00-2:30 PM ET\, featuring Michael Klare\, Senior Visiting Fellow at the Arms Control Association and Professor Emeritus of Peace and World Security Studies at Hampshire College. \nAll Hell Breaking Loose: The Pentagon’s Perspective on Climate Change \nOf all major institutions in American society\, none take climate change as seriously as the U.S. military and the Pentagon. Drawing on previously obscure reports and government documents\, renowned security expert Michael Klare shows that the U.S. military sees the climate threat as imperiling the country on several fronts at once. The military now regards climate change as one of the top threats to American national security\, and is busy developing strategies to cope with it.
URL:https://globalcincinnati.org/event/climate-change-cover-to-cover-webinar/
ATTACH;FMTTYPE=image/jpeg:https://globalcincinnati.org/wp-content/uploads/2020/03/climate-change.jpg
END:VEVENT
BEGIN:VEVENT
DTSTART;TZID=America/New_York:20200526T170000
DTEND;TZID=America/New_York:20200526T180000
DTSTAMP:20260424T173742
CREATED:20200526T150228Z
LAST-MODIFIED:20200526T150717Z
UID:22168-1590512400-1590516000@globalcincinnati.org
SUMMARY:Global Pop Trivia - Week 2!
DESCRIPTION:WorldQuest: Global Pop Trivia is bringing together member organizations of the World Affairs Councils of America and Global Ties U.S. network for this national level trivia competition! Each local organization will host four weeks of online trivia competitions – the top two performing players from each local organization will be entered into the national competition in June 15. One lucky winner will get a free ticket to the WACA 2020 National Conference in Washington\, DC \nEach week\, the winner will receive a $10 restaurant gift card! \n$10 Suggested Donation \nRegister Here: https://globalcincinnati.networkforgood.com/events/21138-world-quest-global-pop-trivia-week-2 \nWeek 1: 5/19/20 \nWeek 2: 5/26/20 \nWeek 3: 6/2/20 \nWeek 4: 6/9/20 \nWeek 5\, *National Competition*: 6/17/20 \n$10 Suggested Donation
URL:https://globalcincinnati.org/event/global-pop-trivia-week-2/
ATTACH;FMTTYPE=image/png:https://globalcincinnati.org/wp-content/uploads/2020/05/A-Global-Pop-Trivia-Logo-National.png
END:VEVENT
END:VCALENDAR