BEGIN:VCALENDAR
VERSION:2.0
PRODID:-//World Affairs Council of Cincinnati and Northern Kentucky - ECPv6.15.20//NONSGML v1.0//EN
CALSCALE:GREGORIAN
METHOD:PUBLISH
X-WR-CALNAME:World Affairs Council of Cincinnati and Northern Kentucky
X-ORIGINAL-URL:https://globalcincinnati.org
X-WR-CALDESC:Events for World Affairs Council of Cincinnati and Northern Kentucky
REFRESH-INTERVAL;VALUE=DURATION:PT1H
X-Robots-Tag:noindex
X-PUBLISHED-TTL:PT1H
BEGIN:VTIMEZONE
TZID:America/New_York
BEGIN:DAYLIGHT
TZOFFSETFROM:-0500
TZOFFSETTO:-0400
TZNAME:EDT
DTSTART:20190310T070000
END:DAYLIGHT
BEGIN:STANDARD
TZOFFSETFROM:-0400
TZOFFSETTO:-0500
TZNAME:EST
DTSTART:20191103T060000
END:STANDARD
BEGIN:DAYLIGHT
TZOFFSETFROM:-0500
TZOFFSETTO:-0400
TZNAME:EDT
DTSTART:20200308T070000
END:DAYLIGHT
BEGIN:STANDARD
TZOFFSETFROM:-0400
TZOFFSETTO:-0500
TZNAME:EST
DTSTART:20201101T060000
END:STANDARD
BEGIN:DAYLIGHT
TZOFFSETFROM:-0500
TZOFFSETTO:-0400
TZNAME:EDT
DTSTART:20210314T070000
END:DAYLIGHT
BEGIN:STANDARD
TZOFFSETFROM:-0400
TZOFFSETTO:-0500
TZNAME:EST
DTSTART:20211107T060000
END:STANDARD
END:VTIMEZONE
BEGIN:VEVENT
DTSTART;TZID=America/New_York:20200611T183000
DTEND;TZID=America/New_York:20200611T193000
DTSTAMP:20260424T192109
CREATED:20200608T142508Z
LAST-MODIFIED:20200608T142508Z
UID:22196-1591900200-1591903800@globalcincinnati.org
SUMMARY:What's the New Normal for Air Travel?  Ask the Experts from CVG & SPS
DESCRIPTION:Global aviation connects people and makes our world much smaller and accessible. But just like the events of 9/11 forever changed airport security protocols\, COVID-19 is changing how airports and airlines operate to ensure our health and safety. There have been many changes already established among world airports to protect our health\, but the guidelines are still being written as we learn more about this pandemic. In this Webinar\, Brian Cobb and Doug Goldberg will share some of the technological and procedural initiatives that are being developed at the world’s leading airports for this pandemic environment in North America\, Europe and Asia to help us return to a new normal. We will discuss some of the challenges and metrics surrounding global air travel\, discuss changing policies\, and present some of the experts’ forecasts and expectations about the future of air travel\, with the hope that we will regain the confidence to resume traveling again! \nFree to register!\n$10 Suggested Donation \nhttps://globalcincinnati.networkforgood.com/projects/98203-main-giving-page
URL:https://globalcincinnati.org/event/whats-the-new-normal-for-air-travel-ask-the-experts-from-cvg-sps/
END:VEVENT
BEGIN:VEVENT
DTSTART;TZID=America/New_York:20200625T120000
DTEND;TZID=America/New_York:20200625T130000
DTSTAMP:20260424T192109
CREATED:20200528T174446Z
LAST-MODIFIED:20200528T174446Z
UID:22178-1593086400-1593090000@globalcincinnati.org
SUMMARY:Immigration\, COVID-19\, and the U.S. Economy with Author Alfredo Corchado
DESCRIPTION:In a world ravaged by a global pandemic\, stay at home orders\, quarantine\, and social distancing practices are the new normal. Human movement around the globe has come to an almost screeching halt. However\, while national governments threaten the complete suspension of migration\, preventing people from moving across borders is not as obvious of a solution as it may seem\, nor as beneficial. \nAs Covid-19 continues to spread across the world\, with cases continuing to rise\, supply chains around the globe are beginning to take a hit. Most notably the food supply chain is beginning to strain. The meatpacking industry\, unable to accommodate proper social distancing protocol\, is experiencing a severe hit to their workforce. Farmers and agricultural businesses are taking to the fields after the winter season and need an abundance of able-bodied workers. But who typically fills these roles? Well according to the Department of Agriculture about half the country’s field hands\, more than a million workers\, are undocumented immigrants. \nWith administrations pushing for decreased migration across borders and the food industry pushing for more workers\, where does that leave the undocumented immigrant? Join us on June 25th with Mexican border correspondent and author\, Alfredo Corchado to take a deeper look at this issue\, the impact on our food supply\, and what it actually means to be an essential worker. \n  \nThis is a Zoom Webinar event. The event will take place from 12-1 p.m. EST on June 25\, 2020. The link will be sent to registrants in advance of the event. Please be sure to provide a valid email address with your registration.
URL:https://globalcincinnati.org/event/immigration-covid-19-and-the-u-s-economy-with-author-alfredo-corchado/
END:VEVENT
BEGIN:VEVENT
DTSTART;TZID=America/New_York:20200625T183000
DTEND;TZID=America/New_York:20200625T203000
DTSTAMP:20260424T192109
CREATED:20200624T170601Z
LAST-MODIFIED:20200624T170601Z
UID:22226-1593109800-1593117000@globalcincinnati.org
SUMMARY:Anti-Human Trafficking Interactive Webinar
DESCRIPTION:Human Trafficking and modern slavery have become major public issues over the past two decades. Almost every nation has enacted laws criminalizing human trafficking\, and international organizations\, governments\, and NGOs sponsor a large variety of projects to curb trafficking and slavery. In this webinar\, we will take a deep dive into the topic of human trafficking\, and discuss ways that we can come together to help end this worldwide tragedy. Grab your favorite beverage and join us for this Happy Hour group discussion! \nhttps://globalcincinnati.networkforgood.com/events/21666-anti-human-trafficking-interactive-webinar-group-discussion \nRegistration is free\n$10 suggested donation.
URL:https://globalcincinnati.org/event/anti-human-trafficking-interactive-webinar/
ATTACH;FMTTYPE=image/jpeg:https://globalcincinnati.org/wp-content/uploads/2020/06/74209180_3349748545037384_5807233701420813008_o.jpg
END:VEVENT
END:VCALENDAR